BEGIN:VCALENDAR
VERSION:2.0
PRODID:-//Speco Technologies® - ECPv6.10.1.1//NONSGML v1.0//EN
CALSCALE:GREGORIAN
METHOD:PUBLISH
X-WR-CALNAME:Speco Technologies®
X-ORIGINAL-URL:https://specotech.com
X-WR-CALDESC:Events for Speco Technologies®
REFRESH-INTERVAL;VALUE=DURATION:PT1H
X-Robots-Tag:noindex
X-PUBLISHED-TTL:PT1H
BEGIN:VTIMEZONE
TZID:UTC
BEGIN:STANDARD
TZOFFSETFROM:+0000
TZOFFSETTO:+0000
TZNAME:UTC
DTSTART:20250101T000000
END:STANDARD
END:VTIMEZONE
BEGIN:VEVENT
DTSTART;TZID=UTC:20250106T160000
DTEND;TZID=UTC:20250106T170000
DTSTAMP:20260421T225246
CREATED:20241106T152251Z
LAST-MODIFIED:20241106T152251Z
UID:74497-1736179200-1736182800@specotech.com
SUMMARY:Learn with Speco: Speco Blue VMS Enterprise.
DESCRIPTION:In this webinar we will cover: \n• What is the Speco Blue VMS Platform?\n• Hardware\n• Software• Why are the FREE VMS Client downloads key to the enterprise solution ?\n• Can I manage multiple VMS Client downloads from a centralized location?\n• How do I create custom viewing screens\, multi-monitor\, and fully utilize the viewing platform?\n• How do I scrub video footage using AI and motion detection?\n• And as always\, we will leave time for comments and questions.\n• Webinar Length- 60 minutes \nRegister here.
URL:https://specotech.com/event/learn-with-speco-speco-blue-vms-enterprise-2/
END:VEVENT
BEGIN:VEVENT
DTSTART;TZID=UTC:20250106T160000
DTEND;TZID=UTC:20250106T170000
DTSTAMP:20260421T225246
CREATED:20241106T152251Z
LAST-MODIFIED:20241106T152251Z
UID:72874-1736179200-1736182800@specotech.com
SUMMARY:Learn with Speco: Speco Blue VMS Enterprise.
DESCRIPTION:In this webinar we will cover: \n• What is the Speco Blue VMS Platform?\n• Hardware\n• Software• Why are the FREE VMS Client downloads key to the enterprise solution ?\n• Can I manage multiple VMS Client downloads from a centralized location?\n• How do I create custom viewing screens\, multi-monitor\, and fully utilize the viewing platform?\n• How do I scrub video footage using AI and motion detection?\n• And as always\, we will leave time for comments and questions.\n• Webinar Length- 60 minutes \nRegister here.
URL:https://specotech.com/event/learn-with-speco-speco-blue-vms-enterprise/
END:VEVENT
BEGIN:VEVENT
DTSTART;TZID=UTC:20250120T160000
DTEND;TZID=UTC:20250120T170000
DTSTAMP:20260421T225246
CREATED:20241106T152410Z
LAST-MODIFIED:20241106T152410Z
UID:72876-1737388800-1737392400@specotech.com
SUMMARY:Learn with Speco: Intro to Speco Access Control.
DESCRIPTION:In this webinar we will teach you all you need to know about including Speco Access Solutions in your quotes. We will cover the following through discussion and live demonstrations: \nQuestions we will cover: \n• What are the hardware and software components that make up the Speco Access Control Platform?\n• What components integrate with other Speco Products?\n• What Speco resources are available for me as a dealer to become more familiar with installing Speco Access Solutions?\n• How do I go through the install process for the first time?\n• How does the customer access and interact with the Speco Access Control Panel?\n• How does the dealer and interact/ manage the Speco Access Control Panel?\n• And as always\, we will leave time for comments and questions.\n• Webinar Length- 60 minutes \nRegister here.
URL:https://specotech.com/event/learn-with-speco-intro-to-speco-access-control/
END:VEVENT
BEGIN:VEVENT
DTSTART;TZID=UTC:20250120T160000
DTEND;TZID=UTC:20250120T170000
DTSTAMP:20260421T225246
CREATED:20241106T152410Z
LAST-MODIFIED:20241106T152410Z
UID:74498-1737388800-1737392400@specotech.com
SUMMARY:Learn with Speco: Intro to Speco Access Control.
DESCRIPTION:In this webinar we will teach you all you need to know about including Speco Access Solutions in your quotes. We will cover the following through discussion and live demonstrations: \nQuestions we will cover: \n• What are the hardware and software components that make up the Speco Access Control Platform?\n• What components integrate with other Speco Products?\n• What Speco resources are available for me as a dealer to become more familiar with installing Speco Access Solutions?\n• How do I go through the install process for the first time?\n• How does the customer access and interact with the Speco Access Control Panel?\n• How does the dealer and interact/ manage the Speco Access Control Panel?\n• And as always\, we will leave time for comments and questions.\n• Webinar Length- 60 minutes \nRegister here.
URL:https://specotech.com/event/learn-with-speco-intro-to-speco-access-control-2/
END:VEVENT
BEGIN:VEVENT
DTSTART;TZID=UTC:20250129T080000
DTEND;TZID=UTC:20250129T170000
DTSTAMP:20260421T225246
CREATED:20241002T160659Z
LAST-MODIFIED:20241002T160659Z
UID:72594-1738137600-1738170000@specotech.com
SUMMARY:Speco @ Grainger Sales Meeting - Nashville\, TN
DESCRIPTION:Join us at this Grainger’s Sales Meeting on: \nJanuary 29th – 30th\, 2025 \nIn Nashville\, TN.
URL:https://specotech.com/event/speco-grainger-sales-meeting-nashville-tn/
END:VEVENT
BEGIN:VEVENT
DTSTART;TZID=UTC:20250129T080000
DTEND;TZID=UTC:20250129T170000
DTSTAMP:20260421T225246
CREATED:20241002T160659Z
LAST-MODIFIED:20241002T160659Z
UID:74489-1738137600-1738170000@specotech.com
SUMMARY:Speco @ Grainger Sales Meeting - Nashville\, TN
DESCRIPTION:Join us at this Grainger’s Sales Meeting on: \nJanuary 29th – 30th\, 2025 \nIn Nashville\, TN.
URL:https://specotech.com/event/speco-grainger-sales-meeting-nashville-tn-2/
END:VEVENT
END:VCALENDAR