BEGIN:VCALENDAR
VERSION:2.0
PRODID:-//Speco Technologies® - ECPv6.10.1.1//NONSGML v1.0//EN
CALSCALE:GREGORIAN
METHOD:PUBLISH
X-WR-CALNAME:Speco Technologies®
X-ORIGINAL-URL:https://specotech.com
X-WR-CALDESC:Events for Speco Technologies®
REFRESH-INTERVAL;VALUE=DURATION:PT1H
X-Robots-Tag:noindex
X-PUBLISHED-TTL:PT1H
BEGIN:VTIMEZONE
TZID:UTC
BEGIN:STANDARD
TZOFFSETFROM:+0000
TZOFFSETTO:+0000
TZNAME:UTC
DTSTART:20230101T000000
END:STANDARD
END:VTIMEZONE
BEGIN:VEVENT
DTSTART;TZID=UTC:20231204T160000
DTEND;TZID=UTC:20231204T170000
DTSTAMP:20260425T152347
CREATED:20230822T174229Z
LAST-MODIFIED:20230822T174229Z
UID:64320-1701705600-1701709200@specotech.com
SUMMARY:Webinar: Speco Bridge/VMS Platform
DESCRIPTION:Speco Bridge/VMS Platform – Register for Webinar \nIn this webinar we will teach you all you need to know about the products and services Speco offers that will give your business more value with your customers. We will cover the following through discussion and live demonstrations: \n1. Explanation of the VMS Platform and VMS resources \n2. Licensing / Downloads \n3. How to use the configuration tool \n4. How to use the client tool \n5. Adding Cameras\, Recorders \n6. Remote Access
URL:https://specotech.com/event/webinar-speco-bridge-vms-platform/
END:VEVENT
BEGIN:VEVENT
DTSTART;TZID=UTC:20231204T160000
DTEND;TZID=UTC:20231204T170000
DTSTAMP:20260425T152347
CREATED:20230822T174229Z
LAST-MODIFIED:20230822T174229Z
UID:74411-1701705600-1701709200@specotech.com
SUMMARY:Webinar: Speco Bridge/VMS Platform
DESCRIPTION:Speco Bridge/VMS Platform – Register for Webinar \nIn this webinar we will teach you all you need to know about the products and services Speco offers that will give your business more value with your customers. We will cover the following through discussion and live demonstrations: \n1. Explanation of the VMS Platform and VMS resources \n2. Licensing / Downloads \n3. How to use the configuration tool \n4. How to use the client tool \n5. Adding Cameras\, Recorders \n6. Remote Access
URL:https://specotech.com/event/webinar-speco-bridge-vms-platform-2/
END:VEVENT
BEGIN:VEVENT
DTSTART;TZID=UTC:20231207T110000
DTEND;TZID=UTC:20231207T123000
DTSTAMP:20260425T152347
CREATED:20231026T203645Z
LAST-MODIFIED:20231026T203645Z
UID:74420-1701946800-1701952200@specotech.com
SUMMARY:Training at Wesco South Florida!
DESCRIPTION:Meet with Carlos Guerrero\, Speco Regional Sales Manager\, for a training at the South Florida branch of Wesco. The training will cover Digital Deterrent®\, NDAA product mix\, Advanced Analytics\, and much more. \nTo RSVP please email\, Derek.bonner@wescodist.com or cguerrero@specotech.com \n1881 West State Road 84 Bay 101\, Fort Lauderdale\, FL 33315
URL:https://specotech.com/event/training-at-wesco-south-florida-2/
END:VEVENT
BEGIN:VEVENT
DTSTART;TZID=UTC:20231207T110000
DTEND;TZID=UTC:20231207T123000
DTSTAMP:20260425T152347
CREATED:20231026T203645Z
LAST-MODIFIED:20231026T203810Z
UID:65873-1701946800-1701952200@specotech.com
SUMMARY:Training at Wesco South Florida!
DESCRIPTION:Meet with Carlos Guerrero\, Speco Regional Sales Manager\, for a training at the South Florida branch of Wesco. The training will cover Digital Deterrent®\, NDAA product mix\, Advanced Analytics\, and much more. \nTo RSVP please email\, Derek.bonner@wescodist.com or cguerrero@specotech.com \n1881 West State Road 84 Bay 101\, Fort Lauderdale\, FL 33315
URL:https://specotech.com/event/training-at-wesco-south-florida/
END:VEVENT
BEGIN:VEVENT
DTSTART;TZID=UTC:20231218T160000
DTEND;TZID=UTC:20231218T170000
DTSTAMP:20260425T152347
CREATED:20231128T145454Z
LAST-MODIFIED:20231128T145454Z
UID:66199-1702915200-1702918800@specotech.com
SUMMARY:Webinar - Dashboard
DESCRIPTION:Register for Webinar Here \nIn this webinar we will teach you all you need to know about the new Speco Dashboard\, and how to use it! \nWe will cover the following through discussion and live demonstrations \n\nBest Practices for setting up the Speco Dashboard\nEnrolling a new customer into your Speco Dashboard\nDemo of features of the Dashboard\nManaging your customers on your Speco Dashboard\nAnd as always\, we will leave plenty of time for review and questions.\n\nHost: Daniel Sochalski\, National Sales Trainer \nEstimated time 60 minutes.
URL:https://specotech.com/event/webinar-dashboard/
END:VEVENT
BEGIN:VEVENT
DTSTART;TZID=UTC:20231218T160000
DTEND;TZID=UTC:20231218T170000
DTSTAMP:20260425T152347
CREATED:20231128T145454Z
LAST-MODIFIED:20231128T145454Z
UID:74421-1702915200-1702918800@specotech.com
SUMMARY:Webinar - Dashboard
DESCRIPTION:Register for Webinar Here \nIn this webinar we will teach you all you need to know about the new Speco Dashboard\, and how to use it! \nWe will cover the following through discussion and live demonstrations \n\nBest Practices for setting up the Speco Dashboard\nEnrolling a new customer into your Speco Dashboard\nDemo of features of the Dashboard\nManaging your customers on your Speco Dashboard\nAnd as always\, we will leave plenty of time for review and questions.\n\nHost: Daniel Sochalski\, National Sales Trainer \nEstimated time 60 minutes.
URL:https://specotech.com/event/webinar-dashboard-2/
END:VEVENT
END:VCALENDAR