BEGIN:VCALENDAR
VERSION:2.0
PRODID:-//Speco Technologies® - ECPv6.10.1.1//NONSGML v1.0//EN
CALSCALE:GREGORIAN
METHOD:PUBLISH
X-WR-CALNAME:Speco Technologies®
X-ORIGINAL-URL:https://specotech.com
X-WR-CALDESC:Events for Speco Technologies®
REFRESH-INTERVAL;VALUE=DURATION:PT1H
X-Robots-Tag:noindex
X-PUBLISHED-TTL:PT1H
BEGIN:VTIMEZONE
TZID:UTC
BEGIN:STANDARD
TZOFFSETFROM:+0000
TZOFFSETTO:+0000
TZNAME:UTC
DTSTART:20230101T000000
END:STANDARD
END:VTIMEZONE
BEGIN:VEVENT
DTSTART;TZID=UTC:20231103T110000
DTEND;TZID=UTC:20231103T120000
DTSTAMP:20260426T021411
CREATED:20230828T165116Z
LAST-MODIFIED:20230906T185843Z
UID:64442-1699009200-1699012800@specotech.com
SUMMARY:Webinar: Access Control Overview
DESCRIPTION:Access Control Overview – Register for Webinar \nIn this webinar we will teach you all you need to know about including Speco Access Solutions in your quotes. We will cover the following through discussion and live demonstrations: \n\nBest Practices for the Installation and Selling Speco Access Control\nManaging end user expectations out of the box\nAccessing the user interface\nEnrolling cards into a database\nIntegrating with Speco Surveillance Facial Recognition\nSpeco Mobile App\nFuture Roadmap on Speco Access ControlOverview of the Speco Dashboard
URL:https://specotech.com/event/webinar-access-control-overview-5/
END:VEVENT
BEGIN:VEVENT
DTSTART;TZID=UTC:20231103T110000
DTEND;TZID=UTC:20231103T120000
DTSTAMP:20260426T021411
CREATED:20230828T165116Z
LAST-MODIFIED:20230828T165116Z
UID:74416-1699009200-1699012800@specotech.com
SUMMARY:Webinar: Access Control Overview
DESCRIPTION:Access Control Overview – Register for Webinar \nIn this webinar we will teach you all you need to know about including Speco Access Solutions in your quotes. We will cover the following through discussion and live demonstrations: \n\nBest Practices for the Installation and Selling Speco Access Control\nManaging end user expectations out of the box\nAccessing the user interface\nEnrolling cards into a database\nIntegrating with Speco Surveillance Facial Recognition\nSpeco Mobile App\nFuture Roadmap on Speco Access ControlOverview of the Speco Dashboard
URL:https://specotech.com/event/webinar-access-control-overview-5-2/
END:VEVENT
BEGIN:VEVENT
DTSTART;TZID=UTC:20231106T160000
DTEND;TZID=UTC:20231106T170000
DTSTAMP:20260426T021411
CREATED:20230822T160111Z
LAST-MODIFIED:20230822T160111Z
UID:64310-1699286400-1699290000@specotech.com
SUMMARY:Webinar: Speco Technologies Speciality Cameras
DESCRIPTION:Speco Technologies Speciality Cameras – Register for Webinar \nIn this webinar we will go through our specialty cameras including\, thermal cameras O4DM and O4BM. We will cover the following through discussion and live demonstrations: \n1. Speco Specialty camera options\n2. Speco Thermal Camera\n3. O4DM/ O4BM\n4. Analytic Options/ Road Map
URL:https://specotech.com/event/webinar-speco-technologies-speciality-cameras/
END:VEVENT
BEGIN:VEVENT
DTSTART;TZID=UTC:20231106T160000
DTEND;TZID=UTC:20231106T170000
DTSTAMP:20260426T021411
CREATED:20230822T160111Z
LAST-MODIFIED:20230822T160111Z
UID:74409-1699286400-1699290000@specotech.com
SUMMARY:Webinar: Speco Technologies Speciality Cameras
DESCRIPTION:Speco Technologies Speciality Cameras – Register for Webinar \nIn this webinar we will go through our specialty cameras including\, thermal cameras O4DM and O4BM. We will cover the following through discussion and live demonstrations: \n1. Speco Specialty camera options\n2. Speco Thermal Camera\n3. O4DM/ O4BM\n4. Analytic Options/ Road Map
URL:https://specotech.com/event/webinar-speco-technologies-speciality-cameras-2/
END:VEVENT
BEGIN:VEVENT
DTSTART;VALUE=DATE:20231115
DTEND;VALUE=DATE:20231117
DTSTAMP:20260426T021411
CREATED:20231011T194722Z
LAST-MODIFIED:20231011T194900Z
UID:65610-1700006400-1700179199@specotech.com
SUMMARY:ISC East Trade Show
DESCRIPTION:Come join us at ISC East and stop by our booth to explore all that we have in store. Register for ISC East here.
URL:https://specotech.com/event/isc-east-trade-show/
END:VEVENT
BEGIN:VEVENT
DTSTART;VALUE=DATE:20231115
DTEND;VALUE=DATE:20231117
DTSTAMP:20260426T021411
CREATED:20231011T194722Z
LAST-MODIFIED:20231011T194722Z
UID:74419-1700006400-1700179199@specotech.com
SUMMARY:ISC East Trade Show
DESCRIPTION:Come join us at ISC East and stop by our booth to explore all that we have in store. Register for ISC East here.
URL:https://specotech.com/event/isc-east-trade-show-2/
END:VEVENT
BEGIN:VEVENT
DTSTART;TZID=UTC:20231117T110000
DTEND;TZID=UTC:20231117T120000
DTSTAMP:20260426T021411
CREATED:20230828T165311Z
LAST-MODIFIED:20230828T165311Z
UID:74417-1700218800-1700222400@specotech.com
SUMMARY:Webinar: Access Control Overview
DESCRIPTION:Access Control Overview – Register for Webinar \nIn this webinar we will teach you all you need to know about including Speco Access Solutions in your quotes. We will cover the following through discussion and live demonstrations: \n\nBest Practices for the Installation and Selling Speco Access Control\nManaging end user expectations out of the box\nAccessing the user interface\nEnrolling cards into a database\nIntegrating with Speco Surveillance Facial Recognition\nSpeco Mobile App\nFuture Roadmap on Speco Access ControlOverview of the Speco Dashboard
URL:https://specotech.com/event/webinar-access-control-overview-6-2/
END:VEVENT
BEGIN:VEVENT
DTSTART;TZID=UTC:20231117T110000
DTEND;TZID=UTC:20231117T120000
DTSTAMP:20260426T021411
CREATED:20230828T165311Z
LAST-MODIFIED:20230906T185805Z
UID:64444-1700218800-1700222400@specotech.com
SUMMARY:Webinar: Access Control Overview
DESCRIPTION:Access Control Overview – Register for Webinar \nIn this webinar we will teach you all you need to know about including Speco Access Solutions in your quotes. We will cover the following through discussion and live demonstrations: \n\nBest Practices for the Installation and Selling Speco Access Control\nManaging end user expectations out of the box\nAccessing the user interface\nEnrolling cards into a database\nIntegrating with Speco Surveillance Facial Recognition\nSpeco Mobile App\nFuture Roadmap on Speco Access ControlOverview of the Speco Dashboard
URL:https://specotech.com/event/webinar-access-control-overview-6/
END:VEVENT
BEGIN:VEVENT
DTSTART;TZID=UTC:20231120T160000
DTEND;TZID=UTC:20231120T170000
DTSTAMP:20260426T021411
CREATED:20230822T161545Z
LAST-MODIFIED:20230822T161545Z
UID:74410-1700496000-1700499600@specotech.com
SUMMARY:Webinar: Speco Technologies Dashboard
DESCRIPTION:Speco Technologies Dashboard – Register for Webinar \nIn this webinar we will teach you everything you need to know about Dashboard! We will cover the following through discussion and live demonstrations: \n1. Overview of the Speco Dashboard\n2. How to get the Speco Dashboard\n3. Navigating the Speco Dashboard\n4. Future Roadmap for the Speco Dashboard
URL:https://specotech.com/event/webinar-speco-technologies-dashboard-2/
END:VEVENT
BEGIN:VEVENT
DTSTART;TZID=UTC:20231120T160000
DTEND;TZID=UTC:20231120T170000
DTSTAMP:20260426T021411
CREATED:20230822T161545Z
LAST-MODIFIED:20230822T161545Z
UID:64312-1700496000-1700499600@specotech.com
SUMMARY:Webinar: Speco Technologies Dashboard
DESCRIPTION:Speco Technologies Dashboard – Register for Webinar \nIn this webinar we will teach you everything you need to know about Dashboard! We will cover the following through discussion and live demonstrations: \n1. Overview of the Speco Dashboard\n2. How to get the Speco Dashboard\n3. Navigating the Speco Dashboard\n4. Future Roadmap for the Speco Dashboard
URL:https://specotech.com/event/webinar-speco-technologies-dashboard/
END:VEVENT
END:VCALENDAR