BEGIN:VCALENDAR
VERSION:2.0
PRODID:-//Speco Technologies® - ECPv6.10.1.1//NONSGML v1.0//EN
CALSCALE:GREGORIAN
METHOD:PUBLISH
X-ORIGINAL-URL:https://specotech.com
X-WR-CALDESC:Events for Speco Technologies®
REFRESH-INTERVAL;VALUE=DURATION:PT1H
X-Robots-Tag:noindex
X-PUBLISHED-TTL:PT1H
BEGIN:VTIMEZONE
TZID:UTC
BEGIN:STANDARD
TZOFFSETFROM:+0000
TZOFFSETTO:+0000
TZNAME:UTC
DTSTART:20230101T000000
END:STANDARD
END:VTIMEZONE
BEGIN:VEVENT
DTSTART;TZID=UTC:20231002T160000
DTEND;TZID=UTC:20231002T170000
DTSTAMP:20260425T223956
CREATED:20230821T162403Z
LAST-MODIFIED:20230821T162403Z
UID:74406-1696262400-1696266000@specotech.com
SUMMARY:Webinar: License Plate Recognition Platform
DESCRIPTION:License Plate Recognition Platform – Register for Webinar \nIn this webinar we will teach you about our License Plate Recognition Platform (LPR). License plate recognition technology has revolutionized vehicle tracking and security by accurately identifying and recording license plate numbers in real-time. \n1. Different LPR options \n2. Best install practices \n3. Programming the LPR Cameras \n4. Analytic Analysis of LPR Cameras
URL:https://specotech.com/event/webinar-license-plate-recognition-platform-2/
END:VEVENT
BEGIN:VEVENT
DTSTART;TZID=UTC:20231002T160000
DTEND;TZID=UTC:20231002T170000
DTSTAMP:20260425T223956
CREATED:20230821T162403Z
LAST-MODIFIED:20230821T162403Z
UID:64299-1696262400-1696266000@specotech.com
SUMMARY:Webinar: License Plate Recognition Platform
DESCRIPTION:License Plate Recognition Platform – Register for Webinar \nIn this webinar we will teach you about our License Plate Recognition Platform (LPR). License plate recognition technology has revolutionized vehicle tracking and security by accurately identifying and recording license plate numbers in real-time. \n1. Different LPR options \n2. Best install practices \n3. Programming the LPR Cameras \n4. Analytic Analysis of LPR Cameras
URL:https://specotech.com/event/webinar-license-plate-recognition-platform/
END:VEVENT
BEGIN:VEVENT
DTSTART;TZID=UTC:20231012T160000
DTEND;TZID=UTC:20231012T190000
DTSTAMP:20260425T223956
CREATED:20230707T072014Z
LAST-MODIFIED:20230707T072014Z
UID:74395-1697126400-1697137200@specotech.com
SUMMARY:Trade Show Event with Speco Technologies and Silmar - West Palm Beach
DESCRIPTION:Join Speco Technologies at a Trade Show Event sponsored by Silmar – West Palm Beach. Experience delectable appetizers and refreshing beverages while participating in exciting raffle draws. We look forward to seeing you at the trade show! \nRegister Here \nLocation: Hilton Palm Beach Airport Hotel\, 150 Australian Ave.\, West Palm Beach\, FL 33406 \n 
URL:https://specotech.com/event/trade-show-event-with-speco-technologies-and-silmar-west-palm-beach-2/
END:VEVENT
BEGIN:VEVENT
DTSTART;TZID=UTC:20231012T160000
DTEND;TZID=UTC:20231012T190000
DTSTAMP:20260425T223956
CREATED:20230707T072014Z
LAST-MODIFIED:20230707T072014Z
UID:62119-1697126400-1697137200@specotech.com
SUMMARY:Trade Show Event with Speco Technologies and Silmar - West Palm Beach
DESCRIPTION:Join Speco Technologies at a Trade Show Event sponsored by Silmar – West Palm Beach. Experience delectable appetizers and refreshing beverages while participating in exciting raffle draws. We look forward to seeing you at the trade show! \nRegister Here \nLocation: Hilton Palm Beach Airport Hotel\, 150 Australian Ave.\, West Palm Beach\, FL 33406 \n 
URL:https://specotech.com/event/trade-show-event-with-speco-technologies-and-silmar-west-palm-beach/
END:VEVENT
BEGIN:VEVENT
DTSTART;TZID=UTC:20231013T110000
DTEND;TZID=UTC:20231013T120000
DTSTAMP:20260425T223956
CREATED:20230828T163158Z
LAST-MODIFIED:20230828T163158Z
UID:74414-1697194800-1697198400@specotech.com
SUMMARY:Webinar: Access Control Overview
DESCRIPTION:Access Control Overview – Register for Webinar \nIn this webinar we will teach you all you need to know about including Speco Access Solutions in your quotes. We will cover the following through discussion and live demonstrations: \n\nBest Practices for the Installation and Selling Speco Access Control\nManaging end user expectations out of the box\nAccessing the user interface\nEnrolling cards into a database\nIntegrating with Speco Surveillance Facial Recognition\nSpeco Mobile App\nFuture Roadmap on Speco Access ControlOverview of the Speco Dashboard
URL:https://specotech.com/event/webinar-access-control-overview-3-2/
END:VEVENT
BEGIN:VEVENT
DTSTART;TZID=UTC:20231013T110000
DTEND;TZID=UTC:20231013T120000
DTSTAMP:20260425T223956
CREATED:20230828T163158Z
LAST-MODIFIED:20230906T190004Z
UID:64438-1697194800-1697198400@specotech.com
SUMMARY:Webinar: Access Control Overview
DESCRIPTION:Access Control Overview – Register for Webinar \nIn this webinar we will teach you all you need to know about including Speco Access Solutions in your quotes. We will cover the following through discussion and live demonstrations: \n\nBest Practices for the Installation and Selling Speco Access Control\nManaging end user expectations out of the box\nAccessing the user interface\nEnrolling cards into a database\nIntegrating with Speco Surveillance Facial Recognition\nSpeco Mobile App\nFuture Roadmap on Speco Access ControlOverview of the Speco Dashboard
URL:https://specotech.com/event/webinar-access-control-overview-3/
END:VEVENT
BEGIN:VEVENT
DTSTART;TZID=UTC:20231016T160000
DTEND;TZID=UTC:20231016T170000
DTSTAMP:20260425T223956
CREATED:20230822T155554Z
LAST-MODIFIED:20230822T155554Z
UID:74408-1697472000-1697475600@specotech.com
SUMMARY:Webinar: Speco Technologies Audio Options
DESCRIPTION:Speco Technologies Audio Options – Register for Webinar \nIn this webinar we will teach you all you need to know about Speco Technologies’ audio options\, and how to use them! We will cover the following through discussion and live demonstrations: \n1. Speco Audio Options\n2. Best install practices\n3. Speco IP Audio Options\n4. Speco IP Audio Programming
URL:https://specotech.com/event/webinar-speco-technologies-audio-options-2/
END:VEVENT
BEGIN:VEVENT
DTSTART;TZID=UTC:20231016T160000
DTEND;TZID=UTC:20231016T170000
DTSTAMP:20260425T223956
CREATED:20230822T155554Z
LAST-MODIFIED:20230822T155554Z
UID:64308-1697472000-1697475600@specotech.com
SUMMARY:Webinar: Speco Technologies Audio Options
DESCRIPTION:Speco Technologies Audio Options – Register for Webinar \nIn this webinar we will teach you all you need to know about Speco Technologies’ audio options\, and how to use them! We will cover the following through discussion and live demonstrations: \n1. Speco Audio Options\n2. Best install practices\n3. Speco IP Audio Options\n4. Speco IP Audio Programming
URL:https://specotech.com/event/webinar-speco-technologies-audio-options/
END:VEVENT
BEGIN:VEVENT
DTSTART;VALUE=DATE:20231025
DTEND;VALUE=DATE:20231027
DTSTAMP:20260425T223956
CREATED:20231011T193934Z
LAST-MODIFIED:20231011T194232Z
UID:65606-1698192000-1698364799@specotech.com
SUMMARY:Security Canada Central - Trade Show
DESCRIPTION:We’re thrilled to invite you to an unforgettable experience at the upcoming Security Canada Central trade show! Be sure to drop by our booth and discover what Speco can do for you. Register for the trade show here.
URL:https://specotech.com/event/security-canada-central-trade-show/
END:VEVENT
BEGIN:VEVENT
DTSTART;VALUE=DATE:20231025
DTEND;VALUE=DATE:20231027
DTSTAMP:20260425T223956
CREATED:20231011T193934Z
LAST-MODIFIED:20231011T193934Z
UID:74418-1698192000-1698364799@specotech.com
SUMMARY:Security Canada Central - Trade Show
DESCRIPTION:We’re thrilled to invite you to an unforgettable experience at the upcoming Security Canada Central trade show! Be sure to drop by our booth and discover what Speco can do for you. Register for the trade show here.
URL:https://specotech.com/event/security-canada-central-trade-show-2/
END:VEVENT
BEGIN:VEVENT
DTSTART;TZID=UTC:20231027T110000
DTEND;TZID=UTC:20231027T120000
DTSTAMP:20260425T223956
CREATED:20230828T164731Z
LAST-MODIFIED:20230828T164731Z
UID:74415-1698404400-1698408000@specotech.com
SUMMARY:Webinar: Access Control Overview
DESCRIPTION:Access Control Overview – Register for Webinar \nIn this webinar we will teach you all you need to know about including Speco Access Solutions in your quotes. We will cover the following through discussion and live demonstrations: \n\nBest Practices for the Installation and Selling Speco Access Control\nManaging end user expectations out of the box\nAccessing the user interface\nEnrolling cards into a database\nIntegrating with Speco Surveillance Facial Recognition\nSpeco Mobile App\nFuture Roadmap on Speco Access ControlOverview of the Speco Dashboard
URL:https://specotech.com/event/webinar-access-control-overview-4-2/
END:VEVENT
BEGIN:VEVENT
DTSTART;TZID=UTC:20231027T110000
DTEND;TZID=UTC:20231027T120000
DTSTAMP:20260425T223956
CREATED:20230828T164731Z
LAST-MODIFIED:20230906T190032Z
UID:64440-1698404400-1698408000@specotech.com
SUMMARY:Webinar: Access Control Overview
DESCRIPTION:Access Control Overview – Register for Webinar \nIn this webinar we will teach you all you need to know about including Speco Access Solutions in your quotes. We will cover the following through discussion and live demonstrations: \n\nBest Practices for the Installation and Selling Speco Access Control\nManaging end user expectations out of the box\nAccessing the user interface\nEnrolling cards into a database\nIntegrating with Speco Surveillance Facial Recognition\nSpeco Mobile App\nFuture Roadmap on Speco Access ControlOverview of the Speco Dashboard
URL:https://specotech.com/event/webinar-access-control-overview-4/
END:VEVENT
END:VCALENDAR