BEGIN:VCALENDAR
VERSION:2.0
PRODID:-//Speco Technologies® - ECPv6.10.1.1//NONSGML v1.0//EN
CALSCALE:GREGORIAN
METHOD:PUBLISH
X-WR-CALNAME:Speco Technologies®
X-ORIGINAL-URL:https://specotech.com
X-WR-CALDESC:Events for Speco Technologies®
REFRESH-INTERVAL;VALUE=DURATION:PT1H
X-Robots-Tag:noindex
X-PUBLISHED-TTL:PT1H
BEGIN:VTIMEZONE
TZID:UTC
BEGIN:STANDARD
TZOFFSETFROM:+0000
TZOFFSETTO:+0000
TZNAME:UTC
DTSTART:20230101T000000
END:STANDARD
END:VTIMEZONE
BEGIN:VEVENT
DTSTART;TZID=UTC:20230404T140000
DTEND;TZID=UTC:20230404T150000
DTSTAMP:20260426T013812
CREATED:20230707T064510Z
LAST-MODIFIED:20230707T064510Z
UID:62001-1680616800-1680620400@specotech.com
SUMMARY:WEBINAR - Speco Technologies RMR Opportunities – Learn to leverage Speco products and services to increase RMR!
DESCRIPTION:CLICK HERE TO REGISTER! \nIn this webinar we will teach you all you need to know about the products and services Speco offers that will give your business more value with your customers. \nWe will cover the following through discussion and live demonstrations:\n1. Industry Standards for RMR opportunities\n2. Speco RMR Solutions\n3. Maintenance RMR Opportunities\n4. Cloud Based RMR Opportunities\n5. Analytic Based RMR Opportunities\n6. Building Value into these services\n7. And as always\, we will leave plenty of time for review and questions. \nHost: Daniel Sochalski\, National Sales Trainer
URL:https://specotech.com/event/webinar-speco-technologies-rmr-opportunities-learn-to-leverage-speco-products-and-services-to-increase-rmr/
END:VEVENT
BEGIN:VEVENT
DTSTART;TZID=UTC:20230404T140000
DTEND;TZID=UTC:20230404T150000
DTSTAMP:20260426T013812
CREATED:20230707T064510Z
LAST-MODIFIED:20230707T064510Z
UID:74338-1680616800-1680620400@specotech.com
SUMMARY:WEBINAR - Speco Technologies RMR Opportunities – Learn to leverage Speco products and services to increase RMR!
DESCRIPTION:CLICK HERE TO REGISTER! \nIn this webinar we will teach you all you need to know about the products and services Speco offers that will give your business more value with your customers. \nWe will cover the following through discussion and live demonstrations:\n1. Industry Standards for RMR opportunities\n2. Speco RMR Solutions\n3. Maintenance RMR Opportunities\n4. Cloud Based RMR Opportunities\n5. Analytic Based RMR Opportunities\n6. Building Value into these services\n7. And as always\, we will leave plenty of time for review and questions. \nHost: Daniel Sochalski\, National Sales Trainer
URL:https://specotech.com/event/webinar-speco-technologies-rmr-opportunities-learn-to-leverage-speco-products-and-services-to-increase-rmr-2/
END:VEVENT
BEGIN:VEVENT
DTSTART;TZID=UTC:20230406T150000
DTEND;TZID=UTC:20230406T160000
DTSTAMP:20260426T013812
CREATED:20230707T064521Z
LAST-MODIFIED:20230707T064521Z
UID:74337-1680793200-1680796800@specotech.com
SUMMARY:WEBINAR - Speco Technologies DD1 and DD2 Digital Deterrent - Harness the Power of Artificial Intelligence combined with industrial level deterrents.
DESCRIPTION:CLICK HERE TO REGISTER! \nIn this webinar we will teach you all you need to know about the new Speco DD1 & DD2 Camera’s features and benefits.\nWe will cover the following through discussion and live demonstrations: \n1. Unboxing\, overview of Speco DD1 & DD2 cameras\n2. Installation of the Speco DD1 & DD2 camera\n3. Programming options\n4. Programming your DD1/DD2 camera paired with a Speco N Series Recorder\n5. Customizing the end user solution\n6. And as always\, we will leave plenty of time for review and questions. \nHost: Daniel Sochalski\, National Sales Trainer
URL:https://specotech.com/event/webinar-speco-technologies-dd1-and-dd2-digital-deterrent-harness-the-power-of-artificial-intelligence-combined-with-industrial-level-deterrents-2/
END:VEVENT
BEGIN:VEVENT
DTSTART;TZID=UTC:20230406T150000
DTEND;TZID=UTC:20230406T160000
DTSTAMP:20260426T013812
CREATED:20230707T064521Z
LAST-MODIFIED:20230707T064521Z
UID:62000-1680793200-1680796800@specotech.com
SUMMARY:WEBINAR - Speco Technologies DD1 and DD2 Digital Deterrent - Harness the Power of Artificial Intelligence combined with industrial level deterrents.
DESCRIPTION:CLICK HERE TO REGISTER! \nIn this webinar we will teach you all you need to know about the new Speco DD1 & DD2 Camera’s features and benefits.\nWe will cover the following through discussion and live demonstrations: \n1. Unboxing\, overview of Speco DD1 & DD2 cameras\n2. Installation of the Speco DD1 & DD2 camera\n3. Programming options\n4. Programming your DD1/DD2 camera paired with a Speco N Series Recorder\n5. Customizing the end user solution\n6. And as always\, we will leave plenty of time for review and questions. \nHost: Daniel Sochalski\, National Sales Trainer
URL:https://specotech.com/event/webinar-speco-technologies-dd1-and-dd2-digital-deterrent-harness-the-power-of-artificial-intelligence-combined-with-industrial-level-deterrents/
END:VEVENT
BEGIN:VEVENT
DTSTART;TZID=UTC:20230418T080000
DTEND;TZID=UTC:20230418T140000
DTSTAMP:20260426T013812
CREATED:20230707T064641Z
LAST-MODIFIED:20230707T064641Z
UID:74339-1681804800-1681826400@specotech.com
SUMMARY:WEBINAR - Speco Technologies Dashboard -Navigate your accounts on the fly like a pro with the new Speco Central Management Dealer Dashboard!
DESCRIPTION:CLICK HERE TO REGISTER! \nIn this webinar we will teach you all you need to know about the new Speco Central Management Dashboard\, and how to use it!\nWe will cover the following through discussion and live demonstrations: \n1. Best Practices for setting up the Speco Dashboard\n2. Enrolling a new customer into your Speco Dashboard\n3. Demo of features of the Dashboard\n4. Managing your customers on your Speco Dashboard\n5. New Updates released/upcoming\n6. And as always\, we will leave plenty of time for review and questions. \nHost: Daniel Sochalski\, National Sales Trainer
URL:https://specotech.com/event/webinar-speco-technologies-dashboard-navigate-your-accounts-on-the-fly-like-a-pro-with-the-new-speco-central-management-dealer-dashboard-2/
END:VEVENT
BEGIN:VEVENT
DTSTART;TZID=UTC:20230418T080000
DTEND;TZID=UTC:20230418T140000
DTSTAMP:20260426T013812
CREATED:20230707T064641Z
LAST-MODIFIED:20230707T064641Z
UID:62005-1681804800-1681826400@specotech.com
SUMMARY:WEBINAR - Speco Technologies Dashboard -Navigate your accounts on the fly like a pro with the new Speco Central Management Dealer Dashboard!
DESCRIPTION:CLICK HERE TO REGISTER! \nIn this webinar we will teach you all you need to know about the new Speco Central Management Dashboard\, and how to use it!\nWe will cover the following through discussion and live demonstrations: \n1. Best Practices for setting up the Speco Dashboard\n2. Enrolling a new customer into your Speco Dashboard\n3. Demo of features of the Dashboard\n4. Managing your customers on your Speco Dashboard\n5. New Updates released/upcoming\n6. And as always\, we will leave plenty of time for review and questions. \nHost: Daniel Sochalski\, National Sales Trainer
URL:https://specotech.com/event/webinar-speco-technologies-dashboard-navigate-your-accounts-on-the-fly-like-a-pro-with-the-new-speco-central-management-dealer-dashboard/
END:VEVENT
BEGIN:VEVENT
DTSTART;TZID=UTC:20230420T140000
DTEND;TZID=UTC:20230420T150000
DTSTAMP:20260426T013812
CREATED:20230707T064652Z
LAST-MODIFIED:20250918T201955Z
UID:74340-1681999200-1682002800@specotech.com
SUMMARY:WEBINAR -  Speco Technologies Cloud NVR - Harness the Power of cloud storage and our VMS platform on ANY Speco Blue recorders or IP cameras in the field!
DESCRIPTION:CLICK HERE TO REGISTER! \nIn this webinar we will teach you all you need to know about the new Speco Cloud NVR features and benefits.\nWe will cover the following through discussion and live demonstrations: \n1. Product Overview and options for the Cloud NVR\n2. Cloud NVR Setup\n3. Adding Cameras to your Cloud NVR\n4. Adding Recorders to the Cloud NVR\n5. Setting up those options\n6. Customizing the end user solution\n7. And as always\, we will leave plenty of time for review and questions. \nHost: Daniel Sochalski\, National Sales Trainer
URL:https://specotech.com/event/webinar-speco-technologies-cloud-nvr-harness-the-power-of-cloud-storage-and-our-vms-platform-on-any-speco-blue-recorders-or-ip-cameras-in-the-field-2/
END:VEVENT
BEGIN:VEVENT
DTSTART;TZID=UTC:20230420T140000
DTEND;TZID=UTC:20230420T150000
DTSTAMP:20260426T013812
CREATED:20230707T064652Z
LAST-MODIFIED:20250918T202432Z
UID:62006-1681999200-1682002800@specotech.com
SUMMARY:WEBINAR -  Speco Technologies Cloud NVR - Harness the Power of cloud storage and our VMS platform on ANY Speco Blue recorders or IP cameras in the field!
DESCRIPTION:CLICK HERE TO REGISTER! \nIn this webinar we will teach you all you need to know about the new Speco Cloud NVR features and benefits.\nWe will cover the following through discussion and live demonstrations: \n1. Product Overview and options for the Cloud NVR\n2. Cloud NVR Setup\n3. Adding Cameras to your Cloud NVR\n4. Adding Recorders to the Cloud NVR\n5. Setting up those options\n6. Customizing the end user solution\n7. And as always\, we will leave plenty of time for review and questions. \nHost: Daniel Sochalski\, National Sales Trainer
URL:https://specotech.com/event/webinar-speco-technologies-cloud-nvr-harness-the-power-of-cloud-storage-and-our-vms-platform-on-any-speco-blue-recorders-or-ip-cameras-in-the-field/
END:VEVENT
END:VCALENDAR