BEGIN:VCALENDAR
VERSION:2.0
PRODID:-//Speco Technologies® - ECPv6.10.1.1//NONSGML v1.0//EN
CALSCALE:GREGORIAN
METHOD:PUBLISH
X-ORIGINAL-URL:https://specotech.com
X-WR-CALDESC:Events for Speco Technologies®
REFRESH-INTERVAL;VALUE=DURATION:PT1H
X-Robots-Tag:noindex
X-PUBLISHED-TTL:PT1H
BEGIN:VTIMEZONE
TZID:UTC
BEGIN:STANDARD
TZOFFSETFROM:+0000
TZOFFSETTO:+0000
TZNAME:UTC
DTSTART:20220101T000000
END:STANDARD
END:VTIMEZONE
BEGIN:VEVENT
DTSTART;TZID=UTC:20221101T083000
DTEND;TZID=UTC:20221101T133000
DTSTAMP:20260426T013848
CREATED:20221101T134512Z
LAST-MODIFIED:20221101T134512Z
UID:57432-1667291400-1667309400@specotech.com
SUMMARY:ADI Training Day - ADI Louisville
DESCRIPTION:Join Speco Technologies + Special Guest Daniel Sochalski for an In-Person Product Training for a chance to win a FREE Speco Swag Items and a $25 Visa Gift Card for the first 15 people to register and attend! \n  \nClick Here to register today! \n  \nFor any questions contact Cody Tingle at cody@awareps.com or call 859.595.5579!
URL:https://specotech.com/event/adi-training-day-adi-louisville/
END:VEVENT
BEGIN:VEVENT
DTSTART;TZID=UTC:20221101T083000
DTEND;TZID=UTC:20221101T133000
DTSTAMP:20260426T013848
CREATED:20221101T134512Z
LAST-MODIFIED:20221101T134512Z
UID:74319-1667291400-1667309400@specotech.com
SUMMARY:ADI Training Day - ADI Louisville
DESCRIPTION:Join Speco Technologies + Special Guest Daniel Sochalski for an In-Person Product Training for a chance to win a FREE Speco Swag Items and a $25 Visa Gift Card for the first 15 people to register and attend! \n  \nClick Here to register today! \n  \nFor any questions contact Cody Tingle at cody@awareps.com or call 859.595.5579!
URL:https://specotech.com/event/adi-training-day-adi-louisville-2/
END:VEVENT
BEGIN:VEVENT
DTSTART;TZID=UTC:20221102T083000
DTEND;TZID=UTC:20221102T133000
DTSTAMP:20260426T013848
CREATED:20221101T134656Z
LAST-MODIFIED:20221101T134714Z
UID:57434-1667377800-1667395800@specotech.com
SUMMARY:ADI Training Day - ADI Indianapolis
DESCRIPTION:Join Speco Technologies + Special Guest Daniel Sochalski for an In-Person Product Training for a chance to win a FREE Speco Swag Items and a $25 Visa Gift Card for the first 15 people to register and attend! \n  \nClick Here to register today! \n  \nFor any questions contact Ben Moser at ben@awareps.com or call 317.490.8383
URL:https://specotech.com/event/adi-training-day-adi-indianapolis/
END:VEVENT
BEGIN:VEVENT
DTSTART;TZID=UTC:20221102T083000
DTEND;TZID=UTC:20221102T133000
DTSTAMP:20260426T013848
CREATED:20221101T134656Z
LAST-MODIFIED:20221101T134656Z
UID:74321-1667377800-1667395800@specotech.com
SUMMARY:ADI Training Day - ADI Indianapolis
DESCRIPTION:Join Speco Technologies + Special Guest Daniel Sochalski for an In-Person Product Training for a chance to win a FREE Speco Swag Items and a $25 Visa Gift Card for the first 15 people to register and attend! \n  \nClick Here to register today! \n  \nFor any questions contact Ben Moser at ben@awareps.com or call 317.490.8383
URL:https://specotech.com/event/adi-training-day-adi-indianapolis-2/
END:VEVENT
BEGIN:VEVENT
DTSTART;TZID=UTC:20221103T083000
DTEND;TZID=UTC:20221103T133000
DTSTAMP:20260426T013848
CREATED:20221101T134604Z
LAST-MODIFIED:20221101T134604Z
UID:57433-1667464200-1667482200@specotech.com
SUMMARY:ADI Training Day - ADI Elk Grove
DESCRIPTION:Join Speco Technologies + Special Guest Daniel Sochalski for an In-Person Product Training for a chance to win a FREE Speco Swag Items and a $25 Visa Gift Card for the first 15 people to register and attend! \n  \nClick Here to register today! \n  \nFor any questions contact Jeff Emanuelson at jeff@awareps.com or call 708.629.8814
URL:https://specotech.com/event/adi-training-day-adi-elk-grove/
END:VEVENT
BEGIN:VEVENT
DTSTART;TZID=UTC:20221103T083000
DTEND;TZID=UTC:20221103T133000
DTSTAMP:20260426T013848
CREATED:20221101T134604Z
LAST-MODIFIED:20221101T134604Z
UID:74320-1667464200-1667482200@specotech.com
SUMMARY:ADI Training Day - ADI Elk Grove
DESCRIPTION:Join Speco Technologies + Special Guest Daniel Sochalski for an In-Person Product Training for a chance to win a FREE Speco Swag Items and a $25 Visa Gift Card for the first 15 people to register and attend! \n  \nClick Here to register today! \n  \nFor any questions contact Jeff Emanuelson at jeff@awareps.com or call 708.629.8814
URL:https://specotech.com/event/adi-training-day-adi-elk-grove-2/
END:VEVENT
BEGIN:VEVENT
DTSTART;VALUE=DATE:20221115
DTEND;VALUE=DATE:20221118
DTSTAMP:20260426T013848
CREATED:20221019T135321Z
LAST-MODIFIED:20221019T135321Z
UID:57027-1668470400-1668729599@specotech.com
SUMMARY:Join Speco Technologies at ISC East!
DESCRIPTION:Join Speco Technologies at Booth #1112 at ISC East!  We are incredibly excited to show off the latest and greatest innovations that we have been working on! \n  \nClick here to register using our FREE INVITE LINK today!  We hope to see you there!
URL:https://specotech.com/event/join-speco-technologies-at-isc-east/
END:VEVENT
BEGIN:VEVENT
DTSTART;VALUE=DATE:20221115
DTEND;VALUE=DATE:20221118
DTSTAMP:20260426T013848
CREATED:20221019T135321Z
LAST-MODIFIED:20221019T135321Z
UID:74318-1668470400-1668729599@specotech.com
SUMMARY:Join Speco Technologies at ISC East!
DESCRIPTION:Join Speco Technologies at Booth #1112 at ISC East!  We are incredibly excited to show off the latest and greatest innovations that we have been working on! \n  \nClick here to register using our FREE INVITE LINK today!  We hope to see you there!
URL:https://specotech.com/event/join-speco-technologies-at-isc-east-2/
END:VEVENT
BEGIN:VEVENT
DTSTART;TZID=UTC:20221115T090000
DTEND;TZID=UTC:20221115T130000
DTSTAMP:20260426T013848
CREATED:20221101T135236Z
LAST-MODIFIED:20221101T155207Z
UID:57439-1668502800-1668517200@specotech.com
SUMMARY:Systems Depot/Speco Training Day - Hickory\, NC
DESCRIPTION:Join Speco Technologies + Special Guest Daniel Sochalski for an In-Person Product Training for a chance to earn: CEU Credits and a Visa Gift Card for the first 30 people to register and attend! \nWhere: 150 Tate Blvd SE\, Hickory\, NC\, 28601 \nClick Here to Register! \nFor any questions contact Julian Cardona at jcardona@specotech.com or call 864.494.7850
URL:https://specotech.com/event/systems-depot-speco-training-day-hickory-nc/
END:VEVENT
BEGIN:VEVENT
DTSTART;TZID=UTC:20221115T090000
DTEND;TZID=UTC:20221115T130000
DTSTAMP:20260426T013848
CREATED:20221101T135236Z
LAST-MODIFIED:20221101T135236Z
UID:74322-1668502800-1668517200@specotech.com
SUMMARY:Systems Depot/Speco Training Day - Hickory\, NC
DESCRIPTION:Join Speco Technologies + Special Guest Daniel Sochalski for an In-Person Product Training for a chance to earn: CEU Credits and a Visa Gift Card for the first 30 people to register and attend! \nWhere: 150 Tate Blvd SE\, Hickory\, NC\, 28601 \nClick Here to Register! \nFor any questions contact Julian Cardona at jcardona@specotech.com or call 864.494.7850
URL:https://specotech.com/event/systems-depot-speco-training-day-hickory-nc-2/
END:VEVENT
END:VCALENDAR