BEGIN:VCALENDAR
VERSION:2.0
PRODID:-//Speco Technologies® - ECPv6.10.1.1//NONSGML v1.0//EN
CALSCALE:GREGORIAN
METHOD:PUBLISH
X-ORIGINAL-URL:https://specotech.com
X-WR-CALDESC:Events for Speco Technologies®
REFRESH-INTERVAL;VALUE=DURATION:PT1H
X-Robots-Tag:noindex
X-PUBLISHED-TTL:PT1H
BEGIN:VTIMEZONE
TZID:UTC
BEGIN:STANDARD
TZOFFSETFROM:+0000
TZOFFSETTO:+0000
TZNAME:UTC
DTSTART:20220101T000000
END:STANDARD
END:VTIMEZONE
BEGIN:VEVENT
DTSTART;TZID=UTC:20220707T103000
DTEND;TZID=UTC:20220707T143000
DTSTAMP:20260421T175339
CREATED:20220506T213212Z
LAST-MODIFIED:20220506T213212Z
UID:74305-1657189800-1657204200@specotech.com
SUMMARY:ADI Barbecue Sponsored by Speco Technologies
DESCRIPTION:Join us on Thursday\, July 7th for a Barbecue at ADI Wixom!  We hope you can stop by! \nWhere: \nADI Wixom \n47247 Cartier Dr \nWixom\, MI 48393
URL:https://specotech.com/event/adi-barbecue-sponsored-by-speco-technologies-2/
END:VEVENT
BEGIN:VEVENT
DTSTART;TZID=UTC:20220707T103000
DTEND;TZID=UTC:20220707T143000
DTSTAMP:20260421T175339
CREATED:20220506T213212Z
LAST-MODIFIED:20220506T213212Z
UID:42528-1657189800-1657204200@specotech.com
SUMMARY:ADI Barbecue Sponsored by Speco Technologies
DESCRIPTION:Join us on Thursday\, July 7th for a Barbecue at ADI Wixom!  We hope you can stop by! \nWhere: \nADI Wixom \n47247 Cartier Dr \nWixom\, MI 48393
URL:https://specotech.com/event/adi-barbecue-sponsored-by-speco-technologies/
END:VEVENT
BEGIN:VEVENT
DTSTART;TZID=UTC:20220721T140000
DTEND;TZID=UTC:20220721T150000
DTSTAMP:20260421T175339
CREATED:20220506T213452Z
LAST-MODIFIED:20220506T213452Z
UID:74306-1658412000-1658415600@specotech.com
SUMMARY:Higher Education Webinar
DESCRIPTION:Join Speco Technologies and Security Solutions for a webinar regarding Higher Education: Building a Travel Risk Management Program!  The webinar begins at 2pm EST.  Click here to register today!
URL:https://specotech.com/event/join-speco-technologies-for-an-informative-webinar-2/
END:VEVENT
BEGIN:VEVENT
DTSTART;TZID=UTC:20220721T140000
DTEND;TZID=UTC:20220721T150000
DTSTAMP:20260421T175339
CREATED:20220506T213452Z
LAST-MODIFIED:20221004T155627Z
UID:42530-1658412000-1658415600@specotech.com
SUMMARY:Higher Education Webinar
DESCRIPTION:Join Speco Technologies and Security Solutions for a webinar regarding Higher Education: Building a Travel Risk Management Program!  The webinar begins at 2pm EST.  Click here to register today!
URL:https://specotech.com/event/join-speco-technologies-for-an-informative-webinar/
END:VEVENT
END:VCALENDAR