BEGIN:VCALENDAR
VERSION:2.0
PRODID:-//Speco Technologies® - ECPv6.10.1.1//NONSGML v1.0//EN
CALSCALE:GREGORIAN
METHOD:PUBLISH
X-WR-CALNAME:Speco Technologies®
X-ORIGINAL-URL:https://specotech.com
X-WR-CALDESC:Events for Speco Technologies®
REFRESH-INTERVAL;VALUE=DURATION:PT1H
X-Robots-Tag:noindex
X-PUBLISHED-TTL:PT1H
BEGIN:VTIMEZONE
TZID:America/Sao_Paulo
BEGIN:STANDARD
TZOFFSETFROM:-0300
TZOFFSETTO:-0300
TZNAME:-03
DTSTART:20220101T000000
END:STANDARD
TZID:UTC
BEGIN:STANDARD
TZOFFSETFROM:+0000
TZOFFSETTO:+0000
TZNAME:UTC
DTSTART:20220101T000000
END:STANDARD
END:VTIMEZONE
BEGIN:VEVENT
DTSTART;TZID=America/Sao_Paulo:20220602T090000
DTEND;TZID=America/Sao_Paulo:20220602T140000
DTSTAMP:20260422T081341
CREATED:20220526T205515Z
LAST-MODIFIED:20220526T205515Z
UID:43534-1654160400-1654178400@specotech.com
SUMMARY:KOA Counter Day - Los Angeles
DESCRIPTION:Join Jim Matheson for a counter day at KOA – Los Angeles! \nWhere: \n2215 S La Brea Ave \nLos Angeles\, CA 90018
URL:https://specotech.com/event/koa-counter-day-los-angeles/
END:VEVENT
BEGIN:VEVENT
DTSTART;TZID=America/Sao_Paulo:20220602T090000
DTEND;TZID=America/Sao_Paulo:20220602T140000
DTSTAMP:20260422T081341
CREATED:20220526T205515Z
LAST-MODIFIED:20220526T205515Z
UID:74309-1654160400-1654178400@specotech.com
SUMMARY:KOA Counter Day - Los Angeles
DESCRIPTION:Join Jim Matheson for a counter day at KOA – Los Angeles! \nWhere: \n2215 S La Brea Ave \nLos Angeles\, CA 90018
URL:https://specotech.com/event/koa-counter-day-los-angeles-2/
END:VEVENT
BEGIN:VEVENT
DTSTART;TZID=America/Sao_Paulo:20220603T090000
DTEND;TZID=America/Sao_Paulo:20220603T140000
DTSTAMP:20260422T081341
CREATED:20220526T205639Z
LAST-MODIFIED:20220526T205639Z
UID:74310-1654246800-1654264800@specotech.com
SUMMARY:KOA Counter Day - San Diego
DESCRIPTION:Join Jim Matheson for a counter day at KOA – Los Angeles! \nWhere: \n7290 Clairemont Mesa Blvd \nSan Diego\, CA 92111
URL:https://specotech.com/event/koa-counter-day-san-diego-2/
END:VEVENT
BEGIN:VEVENT
DTSTART;TZID=America/Sao_Paulo:20220603T090000
DTEND;TZID=America/Sao_Paulo:20220603T140000
DTSTAMP:20260422T081341
CREATED:20220526T205639Z
LAST-MODIFIED:20220526T205639Z
UID:43537-1654246800-1654264800@specotech.com
SUMMARY:KOA Counter Day - San Diego
DESCRIPTION:Join Jim Matheson for a counter day at KOA – Los Angeles! \nWhere: \n7290 Clairemont Mesa Blvd \nSan Diego\, CA 92111
URL:https://specotech.com/event/koa-counter-day-san-diego/
END:VEVENT
BEGIN:VEVENT
DTSTART;TZID=UTC:20220606T090000
DTEND;TZID=UTC:20220606T140000
DTSTAMP:20260422T081341
CREATED:20220526T205753Z
LAST-MODIFIED:20220526T205753Z
UID:43539-1654506000-1654524000@specotech.com
SUMMARY:KOA Counter Day - Las Vegas
DESCRIPTION:Join Jim Matheson for a counter day at KOA – Las Vegas! \nWhere: \n4518 W Hacienda Ave \nLas Vegas\, NV 89118
URL:https://specotech.com/event/koa-counter-day-las-vegas/
END:VEVENT
BEGIN:VEVENT
DTSTART;TZID=UTC:20220606T090000
DTEND;TZID=UTC:20220606T140000
DTSTAMP:20260422T081341
CREATED:20220526T205753Z
LAST-MODIFIED:20220526T205753Z
UID:74311-1654506000-1654524000@specotech.com
SUMMARY:KOA Counter Day - Las Vegas
DESCRIPTION:Join Jim Matheson for a counter day at KOA – Las Vegas! \nWhere: \n4518 W Hacienda Ave \nLas Vegas\, NV 89118
URL:https://specotech.com/event/koa-counter-day-las-vegas-2/
END:VEVENT
BEGIN:VEVENT
DTSTART;TZID=UTC:20220607T090000
DTEND;TZID=UTC:20220607T140000
DTSTAMP:20260422T081341
CREATED:20220526T210300Z
LAST-MODIFIED:20220526T210300Z
UID:74314-1654592400-1654610400@specotech.com
SUMMARY:KOA Counter Day - Anaheim
DESCRIPTION:Join Jim Matheson for a Counter Day at KOA – Anaheim \nWhere: \n2201 E Winston Rd A \nAnaheim\, CA 92806
URL:https://specotech.com/event/koa-counter-day-anaheim-2-2/
END:VEVENT
BEGIN:VEVENT
DTSTART;TZID=UTC:20220607T090000
DTEND;TZID=UTC:20220607T140000
DTSTAMP:20260422T081341
CREATED:20220526T210300Z
LAST-MODIFIED:20220526T210300Z
UID:43545-1654592400-1654610400@specotech.com
SUMMARY:KOA Counter Day - Anaheim
DESCRIPTION:Join Jim Matheson for a Counter Day at KOA – Anaheim \nWhere: \n2201 E Winston Rd A \nAnaheim\, CA 92806
URL:https://specotech.com/event/koa-counter-day-anaheim-2/
END:VEVENT
BEGIN:VEVENT
DTSTART;TZID=UTC:20220609T090000
DTEND;TZID=UTC:20220609T140000
DTSTAMP:20260422T081341
CREATED:20220526T210127Z
LAST-MODIFIED:20220526T210127Z
UID:74313-1654765200-1654783200@specotech.com
SUMMARY:KOA Counter Day - Noho
DESCRIPTION:Join Jim Matheson for a Counter Day at KOA – Noho \nWhere: \n7306 Coldwater Canyon Ave Unit 1 \nNorth Hollywood\, CA 91605
URL:https://specotech.com/event/koa-counter-day-noho-2/
END:VEVENT
BEGIN:VEVENT
DTSTART;TZID=UTC:20220609T090000
DTEND;TZID=UTC:20220609T140000
DTSTAMP:20260422T081341
CREATED:20220526T210127Z
LAST-MODIFIED:20220526T210127Z
UID:43543-1654765200-1654783200@specotech.com
SUMMARY:KOA Counter Day - Noho
DESCRIPTION:Join Jim Matheson for a Counter Day at KOA – Noho \nWhere: \n7306 Coldwater Canyon Ave Unit 1 \nNorth Hollywood\, CA 91605
URL:https://specotech.com/event/koa-counter-day-noho/
END:VEVENT
BEGIN:VEVENT
DTSTART;VALUE=DATE:20220623
DTEND;VALUE=DATE:20220624
DTSTAMP:20260422T081341
CREATED:20220623T191304Z
LAST-MODIFIED:20220623T191304Z
UID:74315-1655942400-1656028799@specotech.com
SUMMARY:Platt Electric Counter Day in Tracy\, CA!
DESCRIPTION:Please join Matt Livermore at Platt Electric in Tracy\, California!  We will be showcasing new products as well as catered solutions to fit any need. \n  \nReach out to Matt Livermore at mattl@s3reps.com for more information!
URL:https://specotech.com/event/platt-electric-counter-day-in-tracy-ca-2/
END:VEVENT
BEGIN:VEVENT
DTSTART;VALUE=DATE:20220623
DTEND;VALUE=DATE:20220624
DTSTAMP:20260422T081341
CREATED:20220623T191304Z
LAST-MODIFIED:20220623T191304Z
UID:44631-1655942400-1656028799@specotech.com
SUMMARY:Platt Electric Counter Day in Tracy\, CA!
DESCRIPTION:Please join Matt Livermore at Platt Electric in Tracy\, California!  We will be showcasing new products as well as catered solutions to fit any need. \n  \nReach out to Matt Livermore at mattl@s3reps.com for more information!
URL:https://specotech.com/event/platt-electric-counter-day-in-tracy-ca/
END:VEVENT
END:VCALENDAR