BEGIN:VCALENDAR
VERSION:2.0
PRODID:-//Speco Technologies® - ECPv6.10.1.1//NONSGML v1.0//EN
CALSCALE:GREGORIAN
METHOD:PUBLISH
X-WR-CALNAME:Speco Technologies®
X-ORIGINAL-URL:https://specotech.com
X-WR-CALDESC:Events for Speco Technologies®
REFRESH-INTERVAL;VALUE=DURATION:PT1H
X-Robots-Tag:noindex
X-PUBLISHED-TTL:PT1H
BEGIN:VTIMEZONE
TZID:UTC
BEGIN:STANDARD
TZOFFSETFROM:+0000
TZOFFSETTO:+0000
TZNAME:UTC
DTSTART:20200101T000000
END:STANDARD
END:VTIMEZONE
BEGIN:VEVENT
DTSTART;TZID=UTC:20201006T150000
DTEND;TZID=UTC:20201006T160000
DTSTAMP:20260420T081834
CREATED:20200930T175808Z
LAST-MODIFIED:20200930T175808Z
UID:74261-1601996400-1602000000@specotech.com
SUMMARY:Solutions Spotlight: Speco Technologies Advanced Analytics and Temperature Screening Panel
DESCRIPTION:Click Here to Register
URL:https://specotech.com/event/solutions-spotlight-speco-technologies-advanced-analytics-and-temperature-screening-panel-3/
END:VEVENT
BEGIN:VEVENT
DTSTART;TZID=UTC:20201006T150000
DTEND;TZID=UTC:20201006T160000
DTSTAMP:20260420T081834
CREATED:20200930T175808Z
LAST-MODIFIED:20200930T175808Z
UID:23143-1601996400-1602000000@specotech.com
SUMMARY:Solutions Spotlight: Speco Technologies Advanced Analytics and Temperature Screening Panel
DESCRIPTION:Click Here to Register
URL:https://specotech.com/event/solutions-spotlight-speco-technologies-advanced-analytics-and-temperature-screening-panel/
END:VEVENT
BEGIN:VEVENT
DTSTART;TZID=UTC:20201013T140000
DTEND;TZID=UTC:20201013T150000
DTSTAMP:20260420T081834
CREATED:20200903T132638Z
LAST-MODIFIED:20200903T134956Z
UID:21948-1602597600-1602601200@specotech.com
SUMMARY:Speco Access & O2TML Webinar
DESCRIPTION:Speco Webinar on New 100% Contactless Screening Solution and new Browser based access control solution. Click here to Register.
URL:https://specotech.com/event/speco-access-o2tml-webinar-9/
END:VEVENT
BEGIN:VEVENT
DTSTART;TZID=UTC:20201013T140000
DTEND;TZID=UTC:20201013T150000
DTSTAMP:20260420T081834
CREATED:20200903T132638Z
LAST-MODIFIED:20200903T132638Z
UID:74260-1602597600-1602601200@specotech.com
SUMMARY:Speco Access & O2TML Webinar
DESCRIPTION:Speco Webinar on New 100% Contactless Screening Solution and new Browser based access control solution. Click here to Register.
URL:https://specotech.com/event/speco-access-o2tml-webinar-9-2/
END:VEVENT
BEGIN:VEVENT
DTSTART;TZID=UTC:20201020T150000
DTEND;TZID=UTC:20201020T160000
DTSTAMP:20260420T081834
CREATED:20200930T175858Z
LAST-MODIFIED:20200930T175858Z
UID:74262-1603206000-1603209600@specotech.com
SUMMARY:Solutions Spotlight: Speco Technologies Advanced Analytics and Temperature Screening Panel
DESCRIPTION:Click Here to Register
URL:https://specotech.com/event/solutions-spotlight-speco-technologies-advanced-analytics-and-temperature-screening-panel-2-2/
END:VEVENT
BEGIN:VEVENT
DTSTART;TZID=UTC:20201020T150000
DTEND;TZID=UTC:20201020T160000
DTSTAMP:20260420T081834
CREATED:20200930T175858Z
LAST-MODIFIED:20200930T175858Z
UID:23145-1603206000-1603209600@specotech.com
SUMMARY:Solutions Spotlight: Speco Technologies Advanced Analytics and Temperature Screening Panel
DESCRIPTION:Click Here to Register
URL:https://specotech.com/event/solutions-spotlight-speco-technologies-advanced-analytics-and-temperature-screening-panel-2/
END:VEVENT
BEGIN:VEVENT
DTSTART;TZID=UTC:20201029T083000
DTEND;TZID=UTC:20201029T120000
DTSTAMP:20260420T081834
CREATED:20201027T152212Z
LAST-MODIFIED:20201027T152212Z
UID:74263-1603960200-1603972800@specotech.com
SUMMARY:Outdoor ADI Counter Day: Doraville\,GA
DESCRIPTION:ADI Doraville \n3135 Presidential Dr. \nDoraville\, GA 30340 \nCLICK HERE FOR MORE INFORMATION
URL:https://specotech.com/event/outdoor-adi-counter-day-doravillega-2/
END:VEVENT
BEGIN:VEVENT
DTSTART;TZID=UTC:20201029T083000
DTEND;TZID=UTC:20201029T120000
DTSTAMP:20260420T081834
CREATED:20201027T152212Z
LAST-MODIFIED:20201027T152212Z
UID:24143-1603960200-1603972800@specotech.com
SUMMARY:Outdoor ADI Counter Day: Doraville\,GA
DESCRIPTION:ADI Doraville \n3135 Presidential Dr. \nDoraville\, GA 30340 \nCLICK HERE FOR MORE INFORMATION
URL:https://specotech.com/event/outdoor-adi-counter-day-doravillega/
END:VEVENT
END:VCALENDAR