BEGIN:VCALENDAR
VERSION:2.0
PRODID:-//Speco Technologies® - ECPv6.10.1.1//NONSGML v1.0//EN
CALSCALE:GREGORIAN
METHOD:PUBLISH
X-WR-CALNAME:Speco Technologies®
X-ORIGINAL-URL:https://specotech.com
X-WR-CALDESC:Events for Speco Technologies®
REFRESH-INTERVAL;VALUE=DURATION:PT1H
X-Robots-Tag:noindex
X-PUBLISHED-TTL:PT1H
BEGIN:VTIMEZONE
TZID:UTC
BEGIN:STANDARD
TZOFFSETFROM:+0000
TZOFFSETTO:+0000
TZNAME:UTC
DTSTART:20260101T000000
END:STANDARD
END:VTIMEZONE
BEGIN:VEVENT
DTSTART;TZID=UTC:20260421T100000
DTEND;TZID=UTC:20260421T140000
DTSTAMP:20260421T070851
CREATED:20260320T194331Z
LAST-MODIFIED:20260331T125602Z
UID:78610-1776765600-1776780000@specotech.com
SUMMARY:Pioneer Music Company Keller Counter Day
DESCRIPTION:Continue the excitement of ISC West by discovering camera lines that help diversify your solutions. \nLocation: 750 E Mandoline Ave\, Madison Heights\, MI 48071 \n  \nSign up here: https://www.pmcav.com/event/speco-counter-day-detroit-4-21-26/ \n  \n 
URL:https://specotech.com/event/pioneer-music-company-keller-counter-day/
LOCATION:Pioneer Music\, 750 E Mandoline Ave\, Madison Heights\, MI\, 48071\, United States
END:VEVENT
END:VCALENDAR