BEGIN:VCALENDAR
VERSION:2.0
PRODID:-//Speco Technologies® - ECPv6.10.1.1//NONSGML v1.0//EN
CALSCALE:GREGORIAN
METHOD:PUBLISH
X-WR-CALNAME:Speco Technologies®
X-ORIGINAL-URL:https://specotech.com
X-WR-CALDESC:Events for Speco Technologies®
REFRESH-INTERVAL;VALUE=DURATION:PT1H
X-Robots-Tag:noindex
X-PUBLISHED-TTL:PT1H
BEGIN:VTIMEZONE
TZID:UTC
BEGIN:STANDARD
TZOFFSETFROM:+0000
TZOFFSETTO:+0000
TZNAME:UTC
DTSTART:20260101T000000
END:STANDARD
END:VTIMEZONE
BEGIN:VEVENT
DTSTART;TZID=UTC:20260420T090000
DTEND;TZID=UTC:20260420T130000
DTSTAMP:20260420T014146
CREATED:20260320T193846Z
LAST-MODIFIED:20260331T131806Z
UID:78607-1776675600-1776690000@specotech.com
SUMMARY:SES Keller Counter Day
DESCRIPTION:Remain up-to-date with product functions and features with SES x Speco Technologies® \n  \nDate: 4/20 – 9am-1pm \nLocation: 25181 Dequindre Rd\, Madison Heights\, MI 48071
URL:https://specotech.com/event/ses-keller-counter-day/
LOCATION:Madison Heights\, 25181 Dequindre Rd\, Madison Heights\, MI\, 48071
END:VEVENT
END:VCALENDAR