BEGIN:VCALENDAR
VERSION:2.0
PRODID:-//Speco Technologies® - ECPv6.10.1.1//NONSGML v1.0//EN
CALSCALE:GREGORIAN
METHOD:PUBLISH
X-WR-CALNAME:Speco Technologies®
X-ORIGINAL-URL:https://specotech.com
X-WR-CALDESC:Events for Speco Technologies®
REFRESH-INTERVAL;VALUE=DURATION:PT1H
X-Robots-Tag:noindex
X-PUBLISHED-TTL:PT1H
BEGIN:VTIMEZONE
TZID:UTC
BEGIN:STANDARD
TZOFFSETFROM:+0000
TZOFFSETTO:+0000
TZNAME:UTC
DTSTART:20250101T000000
END:STANDARD
END:VTIMEZONE
BEGIN:VEVENT
DTSTART;TZID=UTC:20250508T090000
DTEND;TZID=UTC:20250508T170000
DTSTAMP:20260421T144302
CREATED:20250217T153807Z
LAST-MODIFIED:20250217T153807Z
UID:74505-1746694800-1746723600@specotech.com
SUMMARY:Speco at ADI Expo: Chicago\, IL
DESCRIPTION:Thursday\, May 8\, 2025\nDrury Lane Theatre & Conference Center \n100 Drury Lane\nOakbrook Terrace\, IL 60181 Phone: 630.530.8300
URL:https://specotech.com/event/speco-at-adi-expo-chicago-il/
END:VEVENT
END:VCALENDAR