BEGIN:VCALENDAR
VERSION:2.0
PRODID:-//Speco Technologies® - ECPv6.10.1.1//NONSGML v1.0//EN
CALSCALE:GREGORIAN
METHOD:PUBLISH
X-ORIGINAL-URL:https://specotech.com
X-WR-CALDESC:Events for Speco Technologies®
REFRESH-INTERVAL;VALUE=DURATION:PT1H
X-Robots-Tag:noindex
X-PUBLISHED-TTL:PT1H
BEGIN:VTIMEZONE
TZID:UTC
BEGIN:STANDARD
TZOFFSETFROM:+0000
TZOFFSETTO:+0000
TZNAME:UTC
DTSTART:20250101T000000
END:STANDARD
END:VTIMEZONE
BEGIN:VEVENT
DTSTART;TZID=UTC:20250407T160000
DTEND;TZID=UTC:20250407T170000
DTSTAMP:20260420T233000
CREATED:20250219T172053Z
LAST-MODIFIED:20250219T172053Z
UID:74010-1744041600-1744045200@specotech.com
SUMMARY:Learn with Speco: Speco SecureGuard Dashboard 
DESCRIPTION:The Speco SecureGuard Dashboard is designed to streamline security operations. Learn how to customize your dashboard\, manage users\, and automate installations.  \nTopics covered:  \n\nHow to sign up and set up your SecureGuard Dashboard \n\n\nAdding devices and structuring your dashboard for efficiency \n\n\nAssigning installers for automatic device integration \n\n\nManaging users and recorder-level options \n\nRegister now to simplify your security workflow.  \n  \nRegister here! 
URL:https://specotech.com/event/learn-with-speco-speco-secureguard-dashboard/
END:VEVENT
END:VCALENDAR