BEGIN:VCALENDAR
VERSION:2.0
PRODID:-//Speco Technologies® - ECPv6.10.1.1//NONSGML v1.0//EN
CALSCALE:GREGORIAN
METHOD:PUBLISH
X-ORIGINAL-URL:https://specotech.com
X-WR-CALDESC:Events for Speco Technologies®
REFRESH-INTERVAL;VALUE=DURATION:PT1H
X-Robots-Tag:noindex
X-PUBLISHED-TTL:PT1H
BEGIN:VTIMEZONE
TZID:UTC
BEGIN:STANDARD
TZOFFSETFROM:+0000
TZOFFSETTO:+0000
TZNAME:UTC
DTSTART:20250101T000000
END:STANDARD
END:VTIMEZONE
BEGIN:VEVENT
DTSTART;TZID=UTC:20250317T160000
DTEND;TZID=UTC:20250317T170000
DTSTAMP:20260420T225801
CREATED:20250219T171847Z
LAST-MODIFIED:20250219T171847Z
UID:74516-1742227200-1742230800@specotech.com
SUMMARY:Learn with Speco: Speco Analytics Overview 
DESCRIPTION:Learn how to unlock the full power of Speco AI and Metadata Analytics. With the latest enhancements\, Speco Analytics offers powerful insights that help you detect\, track\, and review footage faster.  \nTopics covered:  \n\nWhat’s new with Speco AI and Metadata \n\n\nWhich analytics work best for different environments \n\n\nSpecial camera requirements for advanced analytics \n\n\nHow to program analytics directly in the recorder \n\n\nAI-powered video scrubbing for rapid search \n\nReserve your spot and optimize your security strategy.  \n  \nRegister here! \n 
URL:https://specotech.com/event/learn-with-speco-speco-analytics-overview/
END:VEVENT
END:VCALENDAR