BEGIN:VCALENDAR
VERSION:2.0
PRODID:-//Speco Technologies® - ECPv6.10.1.1//NONSGML v1.0//EN
CALSCALE:GREGORIAN
METHOD:PUBLISH
X-WR-CALNAME:Speco Technologies®
X-ORIGINAL-URL:https://specotech.com
X-WR-CALDESC:Events for Speco Technologies®
REFRESH-INTERVAL;VALUE=DURATION:PT1H
X-Robots-Tag:noindex
X-PUBLISHED-TTL:PT1H
BEGIN:VTIMEZONE
TZID:UTC
BEGIN:STANDARD
TZOFFSETFROM:+0000
TZOFFSETTO:+0000
TZNAME:UTC
DTSTART:20250101T000000
END:STANDARD
END:VTIMEZONE
BEGIN:VEVENT
DTSTART;TZID=UTC:20250301T090000
DTEND;TZID=UTC:20250301T170000
DTSTAMP:20260419T223633
CREATED:20250217T153515Z
LAST-MODIFIED:20250217T153515Z
UID:74503-1740819600-1740848400@specotech.com
SUMMARY:Speco at ADI Expo: Teaneck\, NJ
DESCRIPTION:Thursday\, May 1\, 2025 \nTeaneck Marriott at Glenpointe \n100 Frank W Burr Blvd. Teaneck\, NJ 07666 Phone: 201.836.0600
URL:https://specotech.com/event/speco-at-adi-expo-teaneck-nj/
END:VEVENT
END:VCALENDAR