BEGIN:VCALENDAR
VERSION:2.0
PRODID:-//Speco Technologies® - ECPv6.10.1.1//NONSGML v1.0//EN
CALSCALE:GREGORIAN
METHOD:PUBLISH
X-WR-CALNAME:Speco Technologies®
X-ORIGINAL-URL:https://specotech.com
X-WR-CALDESC:Events for Speco Technologies®
REFRESH-INTERVAL;VALUE=DURATION:PT1H
X-Robots-Tag:noindex
X-PUBLISHED-TTL:PT1H
BEGIN:VTIMEZONE
TZID:UTC
BEGIN:STANDARD
TZOFFSETFROM:+0000
TZOFFSETTO:+0000
TZNAME:UTC
DTSTART:20250101T000000
END:STANDARD
END:VTIMEZONE
BEGIN:VEVENT
DTSTART;TZID=UTC:20250106T160000
DTEND;TZID=UTC:20250106T170000
DTSTAMP:20260421T044234
CREATED:20241106T152251Z
LAST-MODIFIED:20241106T152251Z
UID:72874-1736179200-1736182800@specotech.com
SUMMARY:Learn with Speco: Speco Blue VMS Enterprise.
DESCRIPTION:In this webinar we will cover: \n• What is the Speco Blue VMS Platform?\n• Hardware\n• Software• Why are the FREE VMS Client downloads key to the enterprise solution ?\n• Can I manage multiple VMS Client downloads from a centralized location?\n• How do I create custom viewing screens\, multi-monitor\, and fully utilize the viewing platform?\n• How do I scrub video footage using AI and motion detection?\n• And as always\, we will leave time for comments and questions.\n• Webinar Length- 60 minutes \nRegister here.
URL:https://specotech.com/event/learn-with-speco-speco-blue-vms-enterprise/
END:VEVENT
BEGIN:VEVENT
DTSTART;TZID=UTC:20250106T160000
DTEND;TZID=UTC:20250106T170000
DTSTAMP:20260421T044234
CREATED:20241106T152251Z
LAST-MODIFIED:20241106T152251Z
UID:74497-1736179200-1736182800@specotech.com
SUMMARY:Learn with Speco: Speco Blue VMS Enterprise.
DESCRIPTION:In this webinar we will cover: \n• What is the Speco Blue VMS Platform?\n• Hardware\n• Software• Why are the FREE VMS Client downloads key to the enterprise solution ?\n• Can I manage multiple VMS Client downloads from a centralized location?\n• How do I create custom viewing screens\, multi-monitor\, and fully utilize the viewing platform?\n• How do I scrub video footage using AI and motion detection?\n• And as always\, we will leave time for comments and questions.\n• Webinar Length- 60 minutes \nRegister here.
URL:https://specotech.com/event/learn-with-speco-speco-blue-vms-enterprise-2/
END:VEVENT
END:VCALENDAR