BEGIN:VCALENDAR
VERSION:2.0
PRODID:-//Speco Technologies® - ECPv6.10.1.1//NONSGML v1.0//EN
CALSCALE:GREGORIAN
METHOD:PUBLISH
X-WR-CALNAME:Speco Technologies®
X-ORIGINAL-URL:https://specotech.com
X-WR-CALDESC:Events for Speco Technologies®
REFRESH-INTERVAL;VALUE=DURATION:PT1H
X-Robots-Tag:noindex
X-PUBLISHED-TTL:PT1H
BEGIN:VTIMEZONE
TZID:UTC
BEGIN:STANDARD
TZOFFSETFROM:+0000
TZOFFSETTO:+0000
TZNAME:UTC
DTSTART:20240101T000000
END:STANDARD
END:VTIMEZONE
BEGIN:VEVENT
DTSTART;TZID=UTC:20241119T080000
DTEND;TZID=UTC:20241121T170000
DTSTAMP:20260421T165033
CREATED:20241030T185721Z
LAST-MODIFIED:20241030T185721Z
UID:74493-1732003200-1732208400@specotech.com
SUMMARY:ISC East
DESCRIPTION:Join us at ISC East 2024! \nWe will be showcasing our latest innovations in Video Monitoring\, Access Control\, and IP Audio. \nVisit us at Booth #613 \n\n\n\nJavits Center\, NYC\n\n\n\nRegister for free here!\n\n\n\n\n\n\n\n\n\n\n\n\n\n\n\n\n\n\n\n\n\n\n 
URL:https://specotech.com/event/isc-east-2/
END:VEVENT
BEGIN:VEVENT
DTSTART;TZID=UTC:20241119T080000
DTEND;TZID=UTC:20241121T170000
DTSTAMP:20260421T165033
CREATED:20241030T185721Z
LAST-MODIFIED:20241030T185920Z
UID:72825-1732003200-1732208400@specotech.com
SUMMARY:ISC East
DESCRIPTION:Join us at ISC East 2024! \nWe will be showcasing our latest innovations in Video Monitoring\, Access Control\, and IP Audio. \nVisit us at Booth #613 \n\n\n\nJavits Center\, NYC\n\n\n\nRegister for free here!\n\n\n\n\n\n\n\n\n\n\n\n\n\n\n\n\n\n\n\n\n\n\n 
URL:https://specotech.com/event/isc-east/
END:VEVENT
END:VCALENDAR