BEGIN:VCALENDAR
VERSION:2.0
PRODID:-//Speco Technologies® - ECPv6.10.1.1//NONSGML v1.0//EN
CALSCALE:GREGORIAN
METHOD:PUBLISH
X-ORIGINAL-URL:https://specotech.com
X-WR-CALDESC:Events for Speco Technologies®
REFRESH-INTERVAL;VALUE=DURATION:PT1H
X-Robots-Tag:noindex
X-PUBLISHED-TTL:PT1H
BEGIN:VTIMEZONE
TZID:UTC
BEGIN:STANDARD
TZOFFSETFROM:+0000
TZOFFSETTO:+0000
TZNAME:UTC
DTSTART:20240101T000000
END:STANDARD
END:VTIMEZONE
BEGIN:VEVENT
DTSTART;TZID=UTC:20241107T100000
DTEND;TZID=UTC:20241107T170000
DTSTAMP:20260422T121542
CREATED:20241015T125319Z
LAST-MODIFIED:20241015T125617Z
UID:72718-1730973600-1730998800@specotech.com
SUMMARY:Speco at ADI Expo: Dallas
DESCRIPTION:Join us at ADI Expo: Dallas \n\n\n\nHurst Conference Center\n1601 Campus Drive Hurst\, TX 76054 \n\nMeet your local Speco Representative and learn all about our product offerings. \n\nRegister Here!
URL:https://specotech.com/event/speco-at-adi-expo-dallas/
END:VEVENT
BEGIN:VEVENT
DTSTART;TZID=UTC:20241107T100000
DTEND;TZID=UTC:20241107T170000
DTSTAMP:20260422T121542
CREATED:20241015T125319Z
LAST-MODIFIED:20241015T125319Z
UID:74492-1730973600-1730998800@specotech.com
SUMMARY:Speco at ADI Expo: Dallas
DESCRIPTION:Join us at ADI Expo: Dallas \n\n\n\nHurst Conference Center\n1601 Campus Drive Hurst\, TX 76054 \n\nMeet your local Speco Representative and learn all about our product offerings. \n\nRegister Here!
URL:https://specotech.com/event/speco-at-adi-expo-dallas-2/
END:VEVENT
END:VCALENDAR