BEGIN:VCALENDAR
VERSION:2.0
PRODID:-//Speco Technologies® - ECPv6.10.1.1//NONSGML v1.0//EN
CALSCALE:GREGORIAN
METHOD:PUBLISH
X-WR-CALNAME:Speco Technologies®
X-ORIGINAL-URL:https://specotech.com
X-WR-CALDESC:Events for Speco Technologies®
REFRESH-INTERVAL;VALUE=DURATION:PT1H
X-Robots-Tag:noindex
X-PUBLISHED-TTL:PT1H
BEGIN:VTIMEZONE
TZID:UTC
BEGIN:STANDARD
TZOFFSETFROM:+0000
TZOFFSETTO:+0000
TZNAME:UTC
DTSTART:20240101T000000
END:STANDARD
END:VTIMEZONE
BEGIN:VEVENT
DTSTART;TZID=UTC:20241029T090000
DTEND;TZID=UTC:20241029T170000
DTSTAMP:20260421T144308
CREATED:20241004T182530Z
LAST-MODIFIED:20241004T182530Z
UID:72613-1730192400-1730221200@specotech.com
SUMMARY:Speco at ADI Expo San Jose\, CA
DESCRIPTION:Join your local Speco Sales Rep and the ADI Expo: San Jose\, CA. \n\n\n\n\n\n\n\n\n\nDate:\nTuesday\, October 29\, 2024 \n\n\n\n\n\n\n\n\n\n\n\n\n\n\n\n\n\n\nLocation:\nDoubleTree by Hilton Hotel San Jose **NEW LOCATION** \n\n\n\n\n\n\n\n\n\n\n\n\n\n\n\n\n\n\nAddress:\n2050 Gateway Place\, San Jose\, CA 95110 \n\nRegister here.
URL:https://specotech.com/event/speco-at-adi-expo-san-jose-ca/
END:VEVENT
BEGIN:VEVENT
DTSTART;TZID=UTC:20241029T090000
DTEND;TZID=UTC:20241029T170000
DTSTAMP:20260421T144308
CREATED:20241004T182530Z
LAST-MODIFIED:20241004T182530Z
UID:74490-1730192400-1730221200@specotech.com
SUMMARY:Speco at ADI Expo San Jose\, CA
DESCRIPTION:Join your local Speco Sales Rep and the ADI Expo: San Jose\, CA. \n\n\n\n\n\n\n\n\n\nDate:\nTuesday\, October 29\, 2024 \n\n\n\n\n\n\n\n\n\n\n\n\n\n\n\n\n\n\nLocation:\nDoubleTree by Hilton Hotel San Jose **NEW LOCATION** \n\n\n\n\n\n\n\n\n\n\n\n\n\n\n\n\n\n\nAddress:\n2050 Gateway Place\, San Jose\, CA 95110 \n\nRegister here.
URL:https://specotech.com/event/speco-at-adi-expo-san-jose-ca-2/
END:VEVENT
END:VCALENDAR