BEGIN:VCALENDAR
VERSION:2.0
PRODID:-//Speco Technologies® - ECPv6.10.1.1//NONSGML v1.0//EN
CALSCALE:GREGORIAN
METHOD:PUBLISH
X-ORIGINAL-URL:https://specotech.com
X-WR-CALDESC:Events for Speco Technologies®
REFRESH-INTERVAL;VALUE=DURATION:PT1H
X-Robots-Tag:noindex
X-PUBLISHED-TTL:PT1H
BEGIN:VTIMEZONE
TZID:UTC
BEGIN:STANDARD
TZOFFSETFROM:+0000
TZOFFSETTO:+0000
TZNAME:UTC
DTSTART:20240101T000000
END:STANDARD
END:VTIMEZONE
BEGIN:VEVENT
DTSTART;TZID=UTC:20241028T160000
DTEND;TZID=UTC:20241028T170000
DTSTAMP:20260420T203509
CREATED:20240723T145938Z
LAST-MODIFIED:20240723T145938Z
UID:74469-1730131200-1730134800@specotech.com
SUMMARY:Speco Technologies: Advanced Analytics – License Plate Recognition Webinar
DESCRIPTION:Registration Link \n  \nIn this webinar we will cover the differences between the Speco License Plate Recognition Cameras. We will explore which option is best for your install applications. \nArea of coverage: \n• Speco Dome / Bullet options \n• Programming -Night time settings and saving configurations \n• Searching for License Plates on mobile and Local GUI \n• VMS Enterprise LPR options \n• We will cover product information and live demos \nHost: Daniel Sochalski \n  \nRegistration Link \n 
URL:https://specotech.com/event/speco-technologies-advanced-analytics-license-plate-recognition-webinar-2/
END:VEVENT
BEGIN:VEVENT
DTSTART;TZID=UTC:20241028T160000
DTEND;TZID=UTC:20241028T170000
DTSTAMP:20260420T203509
CREATED:20240723T145938Z
LAST-MODIFIED:20240723T145938Z
UID:71154-1730131200-1730134800@specotech.com
SUMMARY:Speco Technologies: Advanced Analytics – License Plate Recognition Webinar
DESCRIPTION:Registration Link \n  \nIn this webinar we will cover the differences between the Speco License Plate Recognition Cameras. We will explore which option is best for your install applications. \nArea of coverage: \n• Speco Dome / Bullet options \n• Programming -Night time settings and saving configurations \n• Searching for License Plates on mobile and Local GUI \n• VMS Enterprise LPR options \n• We will cover product information and live demos \nHost: Daniel Sochalski \n  \nRegistration Link \n 
URL:https://specotech.com/event/speco-technologies-advanced-analytics-license-plate-recognition-webinar/
END:VEVENT
END:VCALENDAR