BEGIN:VCALENDAR
VERSION:2.0
PRODID:-//Speco Technologies® - ECPv6.10.1.1//NONSGML v1.0//EN
CALSCALE:GREGORIAN
METHOD:PUBLISH
X-WR-CALNAME:Speco Technologies®
X-ORIGINAL-URL:https://specotech.com
X-WR-CALDESC:Events for Speco Technologies®
REFRESH-INTERVAL;VALUE=DURATION:PT1H
X-Robots-Tag:noindex
X-PUBLISHED-TTL:PT1H
BEGIN:VTIMEZONE
TZID:UTC
BEGIN:STANDARD
TZOFFSETFROM:+0000
TZOFFSETTO:+0000
TZNAME:UTC
DTSTART:20240101T000000
END:STANDARD
END:VTIMEZONE
BEGIN:VEVENT
DTSTART;TZID=UTC:20241023T080000
DTEND;TZID=UTC:20241024T170000
DTSTAMP:20260420T081032
CREATED:20241007T192213Z
LAST-MODIFIED:20241007T192213Z
UID:74491-1729670400-1729789200@specotech.com
SUMMARY:Speco at Security Canada - Toronto\, Canada
DESCRIPTION:Come visit us at Security Canada \nToronto Congress CentreToronto\, ON\nOctober 23-24\, 2024 \nMeet your Speco Representative and learn about our innovations with Advanced Analytics. Register here: https://hubs.ly/Q02SqRVz0
URL:https://specotech.com/event/speco-at-security-canada-toronto-canada-2/
END:VEVENT
BEGIN:VEVENT
DTSTART;TZID=UTC:20241023T080000
DTEND;TZID=UTC:20241024T170000
DTSTAMP:20260420T081032
CREATED:20241007T192213Z
LAST-MODIFIED:20241007T192213Z
UID:72637-1729670400-1729789200@specotech.com
SUMMARY:Speco at Security Canada - Toronto\, Canada
DESCRIPTION:Come visit us at Security Canada \nToronto Congress CentreToronto\, ON\nOctober 23-24\, 2024 \nMeet your Speco Representative and learn about our innovations with Advanced Analytics. Register here: https://hubs.ly/Q02SqRVz0
URL:https://specotech.com/event/speco-at-security-canada-toronto-canada/
END:VEVENT
END:VCALENDAR