BEGIN:VCALENDAR
VERSION:2.0
PRODID:-//Speco Technologies® - ECPv6.10.1.1//NONSGML v1.0//EN
CALSCALE:GREGORIAN
METHOD:PUBLISH
X-ORIGINAL-URL:https://specotech.com
X-WR-CALDESC:Events for Speco Technologies®
REFRESH-INTERVAL;VALUE=DURATION:PT1H
X-Robots-Tag:noindex
X-PUBLISHED-TTL:PT1H
BEGIN:VTIMEZONE
TZID:UTC
BEGIN:STANDARD
TZOFFSETFROM:+0000
TZOFFSETTO:+0000
TZNAME:UTC
DTSTART:20240101T000000
END:STANDARD
END:VTIMEZONE
BEGIN:VEVENT
DTSTART;TZID=UTC:20241004T100000
DTEND;TZID=UTC:20241004T140000
DTSTAMP:20260421T132728
CREATED:20240909T141941Z
LAST-MODIFIED:20240909T141941Z
UID:72123-1728036000-1728050400@specotech.com
SUMMARY:Speco at System Depot's Octoberfest - Sacramento\, CA
DESCRIPTION:Join our Speco Sales Rep at System Depot’s Octoberfest – Sacramento\, CA. \nFriday\, October 4\, 2024 | 10:00 am – 2:00 pm \n\n\n\n\n198 Opportunity St #2\, Sacramento\, CA 95838 \nCatered Lunch\, Prizes and Product Discounts will be offered!
URL:https://specotech.com/event/speco-at-system-depots-octoberfest-sacramento-ca/
END:VEVENT
BEGIN:VEVENT
DTSTART;TZID=UTC:20241004T100000
DTEND;TZID=UTC:20241004T140000
DTSTAMP:20260421T132728
CREATED:20240909T141941Z
LAST-MODIFIED:20240909T141941Z
UID:74484-1728036000-1728050400@specotech.com
SUMMARY:Speco at System Depot's Octoberfest - Sacramento\, CA
DESCRIPTION:Join our Speco Sales Rep at System Depot’s Octoberfest – Sacramento\, CA. \nFriday\, October 4\, 2024 | 10:00 am – 2:00 pm \n\n\n\n\n198 Opportunity St #2\, Sacramento\, CA 95838 \nCatered Lunch\, Prizes and Product Discounts will be offered!
URL:https://specotech.com/event/speco-at-system-depots-octoberfest-sacramento-ca-2/
END:VEVENT
END:VCALENDAR