BEGIN:VCALENDAR
VERSION:2.0
PRODID:-//Speco Technologies® - ECPv6.10.1.1//NONSGML v1.0//EN
CALSCALE:GREGORIAN
METHOD:PUBLISH
X-ORIGINAL-URL:https://specotech.com
X-WR-CALDESC:Events for Speco Technologies®
REFRESH-INTERVAL;VALUE=DURATION:PT1H
X-Robots-Tag:noindex
X-PUBLISHED-TTL:PT1H
BEGIN:VTIMEZONE
TZID:UTC
BEGIN:STANDARD
TZOFFSETFROM:+0000
TZOFFSETTO:+0000
TZNAME:UTC
DTSTART:20240101T000000
END:STANDARD
END:VTIMEZONE
BEGIN:VEVENT
DTSTART;TZID=UTC:20240806T120000
DTEND;TZID=UTC:20240806T170000
DTSTAMP:20260422T003338
CREATED:20240801T154517Z
LAST-MODIFIED:20240801T154517Z
UID:71344-1722945600-1722963600@specotech.com
SUMMARY:Speco at ADI Expo - Boston
DESCRIPTION:Register here. \nPlease join us on Tuesday\, August 6th at the ADI Expo – Boston. \nMeet your local Speco Representatives and discover how to earn Recurring Monthly Revenue (RMR) with the SecureGuard Dashboard. \n  \nDate:\nTuesday\, August 6\, 2024 \nLocation:\nenVision Hotel & Conference Center Mansfield-Foxboro **NEW VENUE** \nAddress:\n31 Hampshire Street\, Mansfield\, MA 02048 \n  \nRegister here.
URL:https://specotech.com/event/speco-at-adi-expo-boston/
END:VEVENT
BEGIN:VEVENT
DTSTART;TZID=UTC:20240806T120000
DTEND;TZID=UTC:20240806T170000
DTSTAMP:20260422T003338
CREATED:20240801T154517Z
LAST-MODIFIED:20240801T154517Z
UID:74472-1722945600-1722963600@specotech.com
SUMMARY:Speco at ADI Expo - Boston
DESCRIPTION:Register here. \nPlease join us on Tuesday\, August 6th at the ADI Expo – Boston. \nMeet your local Speco Representatives and discover how to earn Recurring Monthly Revenue (RMR) with the SecureGuard Dashboard. \n  \nDate:\nTuesday\, August 6\, 2024 \nLocation:\nenVision Hotel & Conference Center Mansfield-Foxboro **NEW VENUE** \nAddress:\n31 Hampshire Street\, Mansfield\, MA 02048 \n  \nRegister here.
URL:https://specotech.com/event/speco-at-adi-expo-boston-2/
END:VEVENT
END:VCALENDAR