BEGIN:VCALENDAR
VERSION:2.0
PRODID:-//Speco Technologies® - ECPv6.10.1.1//NONSGML v1.0//EN
CALSCALE:GREGORIAN
METHOD:PUBLISH
X-WR-CALNAME:Speco Technologies®
X-ORIGINAL-URL:https://specotech.com
X-WR-CALDESC:Events for Speco Technologies®
REFRESH-INTERVAL;VALUE=DURATION:PT1H
X-Robots-Tag:noindex
X-PUBLISHED-TTL:PT1H
BEGIN:VTIMEZONE
TZID:UTC
BEGIN:STANDARD
TZOFFSETFROM:+0000
TZOFFSETTO:+0000
TZNAME:UTC
DTSTART:20240101T000000
END:STANDARD
END:VTIMEZONE
BEGIN:VEVENT
DTSTART;TZID=UTC:20240725T080000
DTEND;TZID=UTC:20240725T130000
DTSTAMP:20260422T094111
CREATED:20240612T134712Z
LAST-MODIFIED:20240612T134712Z
UID:74461-1721894400-1721912400@specotech.com
SUMMARY:Charleston Roadshow
DESCRIPTION:Please join us on July 25th for a Speco Technologies Roadshow! The meeting will be hosted by Julian Cardona\, Director of Sales – Southeast\, and John Graves\, Regional Sales Manager. \nSpeco Offers:  \n\n10% off your next Speco order\, plus a free O4VT2 camera*\, if you bring the flyer to the roadshow\nDigital Deterrent® to stop  crime before it occurs\nExtensive NDAA Compliant product mix\nPatented\, covert wall mount recorders \nAdvanced Analytics with no licensing fees\nSecureGuard® Dashboard remote management platform\n*Limited to one per company\n\nRegister Here: https://share.hsforms.com/16SK_D4mHQWSNcrC_aiz5UQbmso6
URL:https://specotech.com/event/charleston-roadshow-2/
END:VEVENT
BEGIN:VEVENT
DTSTART;TZID=UTC:20240725T080000
DTEND;TZID=UTC:20240725T130000
DTSTAMP:20260422T094111
CREATED:20240612T134712Z
LAST-MODIFIED:20240612T134712Z
UID:70211-1721894400-1721912400@specotech.com
SUMMARY:Charleston Roadshow
DESCRIPTION:Please join us on July 25th for a Speco Technologies Roadshow! The meeting will be hosted by Julian Cardona\, Director of Sales – Southeast\, and John Graves\, Regional Sales Manager. \nSpeco Offers:  \n\n10% off your next Speco order\, plus a free O4VT2 camera*\, if you bring the flyer to the roadshow\nDigital Deterrent® to stop  crime before it occurs\nExtensive NDAA Compliant product mix\nPatented\, covert wall mount recorders \nAdvanced Analytics with no licensing fees\nSecureGuard® Dashboard remote management platform\n*Limited to one per company\n\nRegister Here: https://share.hsforms.com/16SK_D4mHQWSNcrC_aiz5UQbmso6
URL:https://specotech.com/event/charleston-roadshow/
END:VEVENT
END:VCALENDAR