BEGIN:VCALENDAR
VERSION:2.0
PRODID:-//Speco Technologies® - ECPv6.10.1.1//NONSGML v1.0//EN
CALSCALE:GREGORIAN
METHOD:PUBLISH
X-ORIGINAL-URL:https://specotech.com
X-WR-CALDESC:Events for Speco Technologies®
REFRESH-INTERVAL;VALUE=DURATION:PT1H
X-Robots-Tag:noindex
X-PUBLISHED-TTL:PT1H
BEGIN:VTIMEZONE
TZID:UTC
BEGIN:STANDARD
TZOFFSETFROM:+0000
TZOFFSETTO:+0000
TZNAME:UTC
DTSTART:20240101T000000
END:STANDARD
END:VTIMEZONE
BEGIN:VEVENT
DTSTART;TZID=UTC:20240724T130000
DTEND;TZID=UTC:20240724T140000
DTSTAMP:20260420T203510
CREATED:20240620T125739Z
LAST-MODIFIED:20240621T131230Z
UID:70344-1721826000-1721829600@specotech.com
SUMMARY:Webinar: Boost Your Revenue with Advanced Video Monitoring - Hosted by Speco and Dynamark
DESCRIPTION:Register for Webinar \nReady to elevate your business with a steady stream of recurring monthly revenue (RMR)? Join Speco and Dynamark for an exclusive webinar on the power of video monitoring. \nWhy Attend?\nKey Takeaways:\nHarness Video Monitoring: Enhance security and operational efficiency.\nGenerate RMR: Learn strategies for consistent\, predictable income.\nAdd Value: Differentiate your business with comprehensive security solutions.\nMarket Insights: Stay ahead with trends and opportunities in video surveillance. \nWho Should Attend?\nSecurity Professionals\nBusiness Owners in the Security Industry\nSystem Integrators\nMonitoring Service Providers \nExpert Speakers:\nBrett Keller from Speco\nScott Gould from Dynamark\nKevin Dunham from First Action Security Team \nSpecial Q&A Session:\nGet your questions answered by our experts.
URL:https://specotech.com/event/webinar-boost-your-revenue-with-advanced-video-monitoring-hosted-by-speco-and-denmark/
END:VEVENT
BEGIN:VEVENT
DTSTART;TZID=UTC:20240724T130000
DTEND;TZID=UTC:20240724T140000
DTSTAMP:20260420T203510
CREATED:20240620T125739Z
LAST-MODIFIED:20240620T125739Z
UID:74462-1721826000-1721829600@specotech.com
SUMMARY:Webinar: Boost Your Revenue with Advanced Video Monitoring - Hosted by Speco and Dynamark
DESCRIPTION:Register for Webinar \nReady to elevate your business with a steady stream of recurring monthly revenue (RMR)? Join Speco and Dynamark for an exclusive webinar on the power of video monitoring. \nWhy Attend?\nKey Takeaways:\nHarness Video Monitoring: Enhance security and operational efficiency.\nGenerate RMR: Learn strategies for consistent\, predictable income.\nAdd Value: Differentiate your business with comprehensive security solutions.\nMarket Insights: Stay ahead with trends and opportunities in video surveillance. \nWho Should Attend?\nSecurity Professionals\nBusiness Owners in the Security Industry\nSystem Integrators\nMonitoring Service Providers \nExpert Speakers:\nBrett Keller from Speco\nScott Gould from Dynamark\nKevin Dunham from First Action Security Team \nSpecial Q&A Session:\nGet your questions answered by our experts.
URL:https://specotech.com/event/webinar-boost-your-revenue-with-advanced-video-monitoring-hosted-by-speco-and-denmark-2/
END:VEVENT
END:VCALENDAR