BEGIN:VCALENDAR
VERSION:2.0
PRODID:-//Speco Technologies® - ECPv6.10.1.1//NONSGML v1.0//EN
CALSCALE:GREGORIAN
METHOD:PUBLISH
X-WR-CALNAME:Speco Technologies®
X-ORIGINAL-URL:https://specotech.com
X-WR-CALDESC:Events for Speco Technologies®
REFRESH-INTERVAL;VALUE=DURATION:PT1H
X-Robots-Tag:noindex
X-PUBLISHED-TTL:PT1H
BEGIN:VTIMEZONE
TZID:UTC
BEGIN:STANDARD
TZOFFSETFROM:+0000
TZOFFSETTO:+0000
TZNAME:UTC
DTSTART:20240101T000000
END:STANDARD
END:VTIMEZONE
BEGIN:VEVENT
DTSTART;TZID=UTC:20240612T100000
DTEND;TZID=UTC:20240612T150000
DTSTAMP:20260423T154324
CREATED:20240226T192945Z
LAST-MODIFIED:20240226T192945Z
UID:68019-1718186400-1718204400@specotech.com
SUMMARY:SES BBQ Day - Detroit
DESCRIPTION:Enjoy a BBQ day at SES Detroit to see what’s new with Speco Technologies! \nJoin us from 10:00am – 3:00pm for our Vendor Showcase! \nLunch will be served from 11:00am – 2:00pm \nLocation: 25181 Dequindre Rd Madison Heights\, MI 48071
URL:https://specotech.com/event/ses-bbq-day-detroit/
END:VEVENT
BEGIN:VEVENT
DTSTART;TZID=UTC:20240612T100000
DTEND;TZID=UTC:20240612T150000
DTSTAMP:20260423T154324
CREATED:20240226T192945Z
LAST-MODIFIED:20240226T192945Z
UID:74437-1718186400-1718204400@specotech.com
SUMMARY:SES BBQ Day - Detroit
DESCRIPTION:Enjoy a BBQ day at SES Detroit to see what’s new with Speco Technologies! \nJoin us from 10:00am – 3:00pm for our Vendor Showcase! \nLunch will be served from 11:00am – 2:00pm \nLocation: 25181 Dequindre Rd Madison Heights\, MI 48071
URL:https://specotech.com/event/ses-bbq-day-detroit-2/
END:VEVENT
END:VCALENDAR