BEGIN:VCALENDAR
VERSION:2.0
PRODID:-//Speco Technologies® - ECPv6.10.1.1//NONSGML v1.0//EN
CALSCALE:GREGORIAN
METHOD:PUBLISH
X-ORIGINAL-URL:https://specotech.com
X-WR-CALDESC:Events for Speco Technologies®
REFRESH-INTERVAL;VALUE=DURATION:PT1H
X-Robots-Tag:noindex
X-PUBLISHED-TTL:PT1H
BEGIN:VTIMEZONE
TZID:UTC
BEGIN:STANDARD
TZOFFSETFROM:+0000
TZOFFSETTO:+0000
TZNAME:UTC
DTSTART:20240101T000000
END:STANDARD
END:VTIMEZONE
BEGIN:VEVENT
DTSTART;TZID=UTC:20240605T100000
DTEND;TZID=UTC:20240605T150000
DTSTAMP:20260423T095532
CREATED:20240226T192125Z
LAST-MODIFIED:20240226T192125Z
UID:74435-1717581600-1717599600@specotech.com
SUMMARY:SES BBQ Day - Chicago
DESCRIPTION:Enjoy a BBQ day at SES Chicago to see what’s new with Speco Technologies! \nJoin us from 10:00am – 3:00pm for our Vendor Showcase! \nLunch will be served from 11:00am – 2:00pm \nLocation: 1116 W. South Thorndale Bensenville\, IL 60106 
URL:https://specotech.com/event/ses-bbq-day-chicago-2/
END:VEVENT
BEGIN:VEVENT
DTSTART;TZID=UTC:20240605T100000
DTEND;TZID=UTC:20240605T150000
DTSTAMP:20260423T095532
CREATED:20240226T192125Z
LAST-MODIFIED:20240226T192125Z
UID:68015-1717581600-1717599600@specotech.com
SUMMARY:SES BBQ Day - Chicago
DESCRIPTION:Enjoy a BBQ day at SES Chicago to see what’s new with Speco Technologies! \nJoin us from 10:00am – 3:00pm for our Vendor Showcase! \nLunch will be served from 11:00am – 2:00pm \nLocation: 1116 W. South Thorndale Bensenville\, IL 60106 
URL:https://specotech.com/event/ses-bbq-day-chicago/
END:VEVENT
END:VCALENDAR