BEGIN:VCALENDAR
VERSION:2.0
PRODID:-//Speco Technologies® - ECPv6.10.1.1//NONSGML v1.0//EN
CALSCALE:GREGORIAN
METHOD:PUBLISH
X-ORIGINAL-URL:https://specotech.com
X-WR-CALDESC:Events for Speco Technologies®
REFRESH-INTERVAL;VALUE=DURATION:PT1H
X-Robots-Tag:noindex
X-PUBLISHED-TTL:PT1H
BEGIN:VTIMEZONE
TZID:UTC
BEGIN:STANDARD
TZOFFSETFROM:+0000
TZOFFSETTO:+0000
TZNAME:UTC
DTSTART:20240101T000000
END:STANDARD
END:VTIMEZONE
BEGIN:VEVENT
DTSTART;TZID=UTC:20240516T100000
DTEND;TZID=UTC:20240516T150000
DTSTAMP:20260422T020548
CREATED:20240226T190411Z
LAST-MODIFIED:20240226T190411Z
UID:68003-1715853600-1715871600@specotech.com
SUMMARY:SES BBQ Day - Memphis
DESCRIPTION:Enjoy a BBQ day at SES Memphis to see what’s new with Speco Technologies! \nJoin us from 10:00am – 3:00pm for our Vendor Showcase! \nLunch will be served from 11:00am – 2:00pm \nLocation: 1600 Century Center Pkwy. B-107 Memphis\, TN 38134
URL:https://specotech.com/event/ses-bbq-day-memphis/
END:VEVENT
BEGIN:VEVENT
DTSTART;TZID=UTC:20240516T100000
DTEND;TZID=UTC:20240516T150000
DTSTAMP:20260422T020548
CREATED:20240226T190411Z
LAST-MODIFIED:20240226T190411Z
UID:74429-1715853600-1715871600@specotech.com
SUMMARY:SES BBQ Day - Memphis
DESCRIPTION:Enjoy a BBQ day at SES Memphis to see what’s new with Speco Technologies! \nJoin us from 10:00am – 3:00pm for our Vendor Showcase! \nLunch will be served from 11:00am – 2:00pm \nLocation: 1600 Century Center Pkwy. B-107 Memphis\, TN 38134
URL:https://specotech.com/event/ses-bbq-day-memphis-2/
END:VEVENT
END:VCALENDAR