BEGIN:VCALENDAR
VERSION:2.0
PRODID:-//Speco Technologies® - ECPv6.10.1.1//NONSGML v1.0//EN
CALSCALE:GREGORIAN
METHOD:PUBLISH
X-ORIGINAL-URL:https://specotech.com
X-WR-CALDESC:Events for Speco Technologies®
REFRESH-INTERVAL;VALUE=DURATION:PT1H
X-Robots-Tag:noindex
X-PUBLISHED-TTL:PT1H
BEGIN:VTIMEZONE
TZID:UTC
BEGIN:STANDARD
TZOFFSETFROM:+0000
TZOFFSETTO:+0000
TZNAME:UTC
DTSTART:20240101T000000
END:STANDARD
END:VTIMEZONE
BEGIN:VEVENT
DTSTART;TZID=UTC:20240509T160000
DTEND;TZID=UTC:20240509T190000
DTSTAMP:20260421T164324
CREATED:20240425T162435Z
LAST-MODIFIED:20240425T162437Z
UID:69217-1715270400-1715281200@specotech.com
SUMMARY:Silmar Road Show - Miami
DESCRIPTION:Register Here \nJoin us at the Silmar Road Show in Miami! \nMiami Airport Marriott \n1201 NW Le Jeune Rd.\, Building A\, Miami\, FL 33126
URL:https://specotech.com/event/silmar-road-show-miami/
END:VEVENT
BEGIN:VEVENT
DTSTART;TZID=UTC:20240509T160000
DTEND;TZID=UTC:20240509T190000
DTSTAMP:20260421T164325
CREATED:20240425T162435Z
LAST-MODIFIED:20240425T162435Z
UID:74450-1715270400-1715281200@specotech.com
SUMMARY:Silmar Road Show - Miami
DESCRIPTION:Register Here \nJoin us at the Silmar Road Show in Miami! \nMiami Airport Marriott \n1201 NW Le Jeune Rd.\, Building A\, Miami\, FL 33126
URL:https://specotech.com/event/silmar-road-show-miami-2/
END:VEVENT
END:VCALENDAR