BEGIN:VCALENDAR
VERSION:2.0
PRODID:-//Speco Technologies® - ECPv6.10.1.1//NONSGML v1.0//EN
CALSCALE:GREGORIAN
METHOD:PUBLISH
X-WR-CALNAME:Speco Technologies®
X-ORIGINAL-URL:https://specotech.com
X-WR-CALDESC:Events for Speco Technologies®
REFRESH-INTERVAL;VALUE=DURATION:PT1H
X-Robots-Tag:noindex
X-PUBLISHED-TTL:PT1H
BEGIN:VTIMEZONE
TZID:UTC
BEGIN:STANDARD
TZOFFSETFROM:+0000
TZOFFSETTO:+0000
TZNAME:UTC
DTSTART:20240101T000000
END:STANDARD
END:VTIMEZONE
BEGIN:VEVENT
DTSTART;TZID=UTC:20240318T160000
DTEND;TZID=UTC:20240318T163000
DTSTAMP:20260421T225047
CREATED:20231128T152728Z
LAST-MODIFIED:20231128T152728Z
UID:74427-1710777600-1710779400@specotech.com
SUMMARY:Webinar Canceled - Speco Technologies Solar Solution
DESCRIPTION:  \nToday’s Webinar is Canceled! We are sorry for any inconvenience and are looking to reschedule the webinar as soon as possible.
URL:https://specotech.com/event/webinar-speco-technologies-solar-solution-2/
END:VEVENT
BEGIN:VEVENT
DTSTART;TZID=UTC:20240318T160000
DTEND;TZID=UTC:20240318T163000
DTSTAMP:20260421T225047
CREATED:20231128T152728Z
LAST-MODIFIED:20240318T144959Z
UID:66213-1710777600-1710779400@specotech.com
SUMMARY:Webinar Canceled - Speco Technologies Solar Solution
DESCRIPTION:  \nToday’s Webinar is Canceled! We are sorry for any inconvenience and are looking to reschedule the webinar as soon as possible.
URL:https://specotech.com/event/webinar-speco-technologies-solar-solution/
END:VEVENT
END:VCALENDAR