BEGIN:VCALENDAR
VERSION:2.0
PRODID:-//Speco Technologies® - ECPv6.10.1.1//NONSGML v1.0//EN
CALSCALE:GREGORIAN
METHOD:PUBLISH
X-WR-CALNAME:Speco Technologies®
X-ORIGINAL-URL:https://specotech.com
X-WR-CALDESC:Events for Speco Technologies®
REFRESH-INTERVAL;VALUE=DURATION:PT1H
X-Robots-Tag:noindex
X-PUBLISHED-TTL:PT1H
BEGIN:VTIMEZONE
TZID:UTC
BEGIN:STANDARD
TZOFFSETFROM:+0000
TZOFFSETTO:+0000
TZNAME:UTC
DTSTART:20230101T000000
END:STANDARD
END:VTIMEZONE
BEGIN:VEVENT
DTSTART;TZID=UTC:20230420T140000
DTEND;TZID=UTC:20230420T150000
DTSTAMP:20260426T030212
CREATED:20230707T064652Z
LAST-MODIFIED:20250918T201955Z
UID:74340-1681999200-1682002800@specotech.com
SUMMARY:WEBINAR -  Speco Technologies Cloud NVR - Harness the Power of cloud storage and our VMS platform on ANY Speco Blue recorders or IP cameras in the field!
DESCRIPTION:CLICK HERE TO REGISTER! \nIn this webinar we will teach you all you need to know about the new Speco Cloud NVR features and benefits.\nWe will cover the following through discussion and live demonstrations: \n1. Product Overview and options for the Cloud NVR\n2. Cloud NVR Setup\n3. Adding Cameras to your Cloud NVR\n4. Adding Recorders to the Cloud NVR\n5. Setting up those options\n6. Customizing the end user solution\n7. And as always\, we will leave plenty of time for review and questions. \nHost: Daniel Sochalski\, National Sales Trainer
URL:https://specotech.com/event/webinar-speco-technologies-cloud-nvr-harness-the-power-of-cloud-storage-and-our-vms-platform-on-any-speco-blue-recorders-or-ip-cameras-in-the-field-2/
END:VEVENT
BEGIN:VEVENT
DTSTART;TZID=UTC:20230420T140000
DTEND;TZID=UTC:20230420T150000
DTSTAMP:20260426T030212
CREATED:20230707T064652Z
LAST-MODIFIED:20250918T202432Z
UID:62006-1681999200-1682002800@specotech.com
SUMMARY:WEBINAR -  Speco Technologies Cloud NVR - Harness the Power of cloud storage and our VMS platform on ANY Speco Blue recorders or IP cameras in the field!
DESCRIPTION:CLICK HERE TO REGISTER! \nIn this webinar we will teach you all you need to know about the new Speco Cloud NVR features and benefits.\nWe will cover the following through discussion and live demonstrations: \n1. Product Overview and options for the Cloud NVR\n2. Cloud NVR Setup\n3. Adding Cameras to your Cloud NVR\n4. Adding Recorders to the Cloud NVR\n5. Setting up those options\n6. Customizing the end user solution\n7. And as always\, we will leave plenty of time for review and questions. \nHost: Daniel Sochalski\, National Sales Trainer
URL:https://specotech.com/event/webinar-speco-technologies-cloud-nvr-harness-the-power-of-cloud-storage-and-our-vms-platform-on-any-speco-blue-recorders-or-ip-cameras-in-the-field/
END:VEVENT
END:VCALENDAR