BEGIN:VCALENDAR
VERSION:2.0
PRODID:-//Speco Technologies® - ECPv6.10.1.1//NONSGML v1.0//EN
CALSCALE:GREGORIAN
METHOD:PUBLISH
X-ORIGINAL-URL:https://specotech.com
X-WR-CALDESC:Events for Speco Technologies®
REFRESH-INTERVAL;VALUE=DURATION:PT1H
X-Robots-Tag:noindex
X-PUBLISHED-TTL:PT1H
BEGIN:VTIMEZONE
TZID:UTC
BEGIN:STANDARD
TZOFFSETFROM:+0000
TZOFFSETTO:+0000
TZNAME:UTC
DTSTART:20220101T000000
END:STANDARD
END:VTIMEZONE
BEGIN:VEVENT
DTSTART;TZID=UTC:20220323T090000
DTEND;TZID=UTC:20220325T170000
DTSTAMP:20260426T011948
CREATED:20220207T222400Z
LAST-MODIFIED:20220207T222431Z
UID:38775-1648026000-1648227600@specotech.com
SUMMARY:ISC West 2022!
DESCRIPTION:You’re invited! Join Speco Technologies at ISC West Booth # 20035 from March 23-25! Use this link: http://iscwest22.nvytes.co/iscw22/inv/CIP395.html to register today. \n\n\n \n\n\n \n\n\nWe hope to see you there!
URL:https://specotech.com/event/isc-west-2022/
END:VEVENT
BEGIN:VEVENT
DTSTART;TZID=UTC:20220323T090000
DTEND;TZID=UTC:20220325T170000
DTSTAMP:20260426T011948
CREATED:20220207T222400Z
LAST-MODIFIED:20220207T222400Z
UID:74300-1648026000-1648227600@specotech.com
SUMMARY:ISC West 2022!
DESCRIPTION:You’re invited! Join Speco Technologies at ISC West Booth # 20035 from March 23-25! Use this link: http://iscwest22.nvytes.co/iscw22/inv/CIP395.html to register today. \n\n\n \n\n\n \n\n\nWe hope to see you there!
URL:https://specotech.com/event/isc-west-2022-2/
END:VEVENT
END:VCALENDAR